BEGIN:VCALENDAR
VERSION:2.0
PRODID:-//Gabriola Island Recycling Organization - ECPv6.15.20//NONSGML v1.0//EN
CALSCALE:GREGORIAN
METHOD:PUBLISH
X-WR-CALNAME:Gabriola Island Recycling Organization
X-ORIGINAL-URL:https://www.girodepot.com
X-WR-CALDESC:Events for Gabriola Island Recycling Organization
REFRESH-INTERVAL;VALUE=DURATION:PT1H
X-Robots-Tag:noindex
X-PUBLISHED-TTL:PT1H
BEGIN:VTIMEZONE
TZID:America/Vancouver
BEGIN:DAYLIGHT
TZOFFSETFROM:-0800
TZOFFSETTO:-0700
TZNAME:PDT
DTSTART:20260308T100000
END:DAYLIGHT
BEGIN:STANDARD
TZOFFSETFROM:-0700
TZOFFSETTO:-0800
TZNAME:PST
DTSTART:20261101T090000
END:STANDARD
BEGIN:DAYLIGHT
TZOFFSETFROM:-0800
TZOFFSETTO:-0700
TZNAME:PDT
DTSTART:20270314T100000
END:DAYLIGHT
BEGIN:STANDARD
TZOFFSETFROM:-0700
TZOFFSETTO:-0800
TZNAME:PST
DTSTART:20271107T090000
END:STANDARD
BEGIN:DAYLIGHT
TZOFFSETFROM:-0800
TZOFFSETTO:-0700
TZNAME:PDT
DTSTART:20280312T100000
END:DAYLIGHT
BEGIN:STANDARD
TZOFFSETFROM:-0700
TZOFFSETTO:-0800
TZNAME:PST
DTSTART:20281105T090000
END:STANDARD
BEGIN:DAYLIGHT
TZOFFSETFROM:-0800
TZOFFSETTO:-0700
TZNAME:PDT
DTSTART:20290311T100000
END:DAYLIGHT
BEGIN:STANDARD
TZOFFSETFROM:-0700
TZOFFSETTO:-0800
TZNAME:PST
DTSTART:20291104T090000
END:STANDARD
END:VTIMEZONE
BEGIN:VEVENT
DTSTART;TZID=America/Vancouver:20271030T130000
DTEND;TZID=America/Vancouver:20271030T153000
DTSTAMP:20260420T190809
CREATED:20260219T005449Z
LAST-MODIFIED:20260304T164558Z
UID:10000362-1824901200-1824910200@www.girodepot.com
SUMMARY:Fibre Café - mentor available
DESCRIPTION:Informal drop-in session to work on your project\, make connections\, share ideas. Suggested donation: $5.  \nKim Adam will be available for coaching and mentoring.
URL:https://www.girodepot.com/workshop/fibre-cafe-2/2027-10-30/
CATEGORIES:Fibre Café
ATTACH;FMTTYPE=image/png:https://www.girodepot.com/wp-content/uploads/2026/02/Group-1-1-e1772070646688.png
END:VEVENT
BEGIN:VEVENT
DTSTART;TZID=America/Vancouver:20271106T130000
DTEND;TZID=America/Vancouver:20271106T153000
DTSTAMP:20260420T190809
CREATED:20260219T005449Z
LAST-MODIFIED:20260304T164558Z
UID:10000363-1825506000-1825515000@www.girodepot.com
SUMMARY:Fibre Café - mentor available
DESCRIPTION:Informal drop-in session to work on your project\, make connections\, share ideas. Suggested donation: $5.  \nKim Adam will be available for coaching and mentoring.
URL:https://www.girodepot.com/workshop/fibre-cafe-2/2027-11-06/
CATEGORIES:Fibre Café
ATTACH;FMTTYPE=image/png:https://www.girodepot.com/wp-content/uploads/2026/02/Group-1-1-e1772070646688.png
END:VEVENT
BEGIN:VEVENT
DTSTART;TZID=America/Vancouver:20271113T130000
DTEND;TZID=America/Vancouver:20271113T153000
DTSTAMP:20260420T190809
CREATED:20260219T005449Z
LAST-MODIFIED:20260304T164558Z
UID:10000364-1826110800-1826119800@www.girodepot.com
SUMMARY:Fibre Café - mentor available
DESCRIPTION:Informal drop-in session to work on your project\, make connections\, share ideas. Suggested donation: $5.  \nKim Adam will be available for coaching and mentoring.
URL:https://www.girodepot.com/workshop/fibre-cafe-2/2027-11-13/
CATEGORIES:Fibre Café
ATTACH;FMTTYPE=image/png:https://www.girodepot.com/wp-content/uploads/2026/02/Group-1-1-e1772070646688.png
END:VEVENT
BEGIN:VEVENT
DTSTART;TZID=America/Vancouver:20271120T130000
DTEND;TZID=America/Vancouver:20271120T153000
DTSTAMP:20260420T190809
CREATED:20260219T005449Z
LAST-MODIFIED:20260304T164558Z
UID:10000365-1826715600-1826724600@www.girodepot.com
SUMMARY:Fibre Café - mentor available
DESCRIPTION:Informal drop-in session to work on your project\, make connections\, share ideas. Suggested donation: $5.  \nKim Adam will be available for coaching and mentoring.
URL:https://www.girodepot.com/workshop/fibre-cafe-2/2027-11-20/
CATEGORIES:Fibre Café
ATTACH;FMTTYPE=image/png:https://www.girodepot.com/wp-content/uploads/2026/02/Group-1-1-e1772070646688.png
END:VEVENT
BEGIN:VEVENT
DTSTART;TZID=America/Vancouver:20271127T130000
DTEND;TZID=America/Vancouver:20271127T153000
DTSTAMP:20260420T190809
CREATED:20260219T005449Z
LAST-MODIFIED:20260304T164558Z
UID:10000366-1827320400-1827329400@www.girodepot.com
SUMMARY:Fibre Café - mentor available
DESCRIPTION:Informal drop-in session to work on your project\, make connections\, share ideas. Suggested donation: $5.  \nKim Adam will be available for coaching and mentoring.
URL:https://www.girodepot.com/workshop/fibre-cafe-2/2027-11-27/
CATEGORIES:Fibre Café
ATTACH;FMTTYPE=image/png:https://www.girodepot.com/wp-content/uploads/2026/02/Group-1-1-e1772070646688.png
END:VEVENT
BEGIN:VEVENT
DTSTART;TZID=America/Vancouver:20271204T130000
DTEND;TZID=America/Vancouver:20271204T153000
DTSTAMP:20260420T190809
CREATED:20260219T005449Z
LAST-MODIFIED:20260304T164558Z
UID:10000367-1827925200-1827934200@www.girodepot.com
SUMMARY:Fibre Café - mentor available
DESCRIPTION:Informal drop-in session to work on your project\, make connections\, share ideas. Suggested donation: $5.  \nKim Adam will be available for coaching and mentoring.
URL:https://www.girodepot.com/workshop/fibre-cafe-2/2027-12-04/
CATEGORIES:Fibre Café
ATTACH;FMTTYPE=image/png:https://www.girodepot.com/wp-content/uploads/2026/02/Group-1-1-e1772070646688.png
END:VEVENT
BEGIN:VEVENT
DTSTART;TZID=America/Vancouver:20271211T130000
DTEND;TZID=America/Vancouver:20271211T153000
DTSTAMP:20260420T190809
CREATED:20260219T005449Z
LAST-MODIFIED:20260304T164558Z
UID:10000368-1828530000-1828539000@www.girodepot.com
SUMMARY:Fibre Café - mentor available
DESCRIPTION:Informal drop-in session to work on your project\, make connections\, share ideas. Suggested donation: $5.  \nKim Adam will be available for coaching and mentoring.
URL:https://www.girodepot.com/workshop/fibre-cafe-2/2027-12-11/
CATEGORIES:Fibre Café
ATTACH;FMTTYPE=image/png:https://www.girodepot.com/wp-content/uploads/2026/02/Group-1-1-e1772070646688.png
END:VEVENT
BEGIN:VEVENT
DTSTART;TZID=America/Vancouver:20271218T130000
DTEND;TZID=America/Vancouver:20271218T153000
DTSTAMP:20260420T190809
CREATED:20260219T005449Z
LAST-MODIFIED:20260304T164558Z
UID:10000369-1829134800-1829143800@www.girodepot.com
SUMMARY:Fibre Café - mentor available
DESCRIPTION:Informal drop-in session to work on your project\, make connections\, share ideas. Suggested donation: $5.  \nKim Adam will be available for coaching and mentoring.
URL:https://www.girodepot.com/workshop/fibre-cafe-2/2027-12-18/
CATEGORIES:Fibre Café
ATTACH;FMTTYPE=image/png:https://www.girodepot.com/wp-content/uploads/2026/02/Group-1-1-e1772070646688.png
END:VEVENT
BEGIN:VEVENT
DTSTART;TZID=America/Vancouver:20271225T130000
DTEND;TZID=America/Vancouver:20271225T153000
DTSTAMP:20260420T190809
CREATED:20260219T005449Z
LAST-MODIFIED:20260304T164558Z
UID:10000370-1829739600-1829748600@www.girodepot.com
SUMMARY:Fibre Café - mentor available
DESCRIPTION:Informal drop-in session to work on your project\, make connections\, share ideas. Suggested donation: $5.  \nKim Adam will be available for coaching and mentoring.
URL:https://www.girodepot.com/workshop/fibre-cafe-2/2027-12-25/
CATEGORIES:Fibre Café
ATTACH;FMTTYPE=image/png:https://www.girodepot.com/wp-content/uploads/2026/02/Group-1-1-e1772070646688.png
END:VEVENT
BEGIN:VEVENT
DTSTART;TZID=America/Vancouver:20280101T130000
DTEND;TZID=America/Vancouver:20280101T153000
DTSTAMP:20260420T190809
CREATED:20260219T005449Z
LAST-MODIFIED:20260304T164558Z
UID:10000371-1830344400-1830353400@www.girodepot.com
SUMMARY:Fibre Café - mentor available
DESCRIPTION:Informal drop-in session to work on your project\, make connections\, share ideas. Suggested donation: $5.  \nKim Adam will be available for coaching and mentoring.
URL:https://www.girodepot.com/workshop/fibre-cafe-2/2028-01-01/
CATEGORIES:Fibre Café
ATTACH;FMTTYPE=image/png:https://www.girodepot.com/wp-content/uploads/2026/02/Group-1-1-e1772070646688.png
END:VEVENT
BEGIN:VEVENT
DTSTART;TZID=America/Vancouver:20280108T130000
DTEND;TZID=America/Vancouver:20280108T153000
DTSTAMP:20260420T190809
CREATED:20260219T005449Z
LAST-MODIFIED:20260304T164558Z
UID:10000372-1830949200-1830958200@www.girodepot.com
SUMMARY:Fibre Café - mentor available
DESCRIPTION:Informal drop-in session to work on your project\, make connections\, share ideas. Suggested donation: $5.  \nKim Adam will be available for coaching and mentoring.
URL:https://www.girodepot.com/workshop/fibre-cafe-2/2028-01-08/
CATEGORIES:Fibre Café
ATTACH;FMTTYPE=image/png:https://www.girodepot.com/wp-content/uploads/2026/02/Group-1-1-e1772070646688.png
END:VEVENT
BEGIN:VEVENT
DTSTART;TZID=America/Vancouver:20280115T130000
DTEND;TZID=America/Vancouver:20280115T153000
DTSTAMP:20260420T190809
CREATED:20260219T005449Z
LAST-MODIFIED:20260304T164558Z
UID:10000373-1831554000-1831563000@www.girodepot.com
SUMMARY:Fibre Café - mentor available
DESCRIPTION:Informal drop-in session to work on your project\, make connections\, share ideas. Suggested donation: $5.  \nKim Adam will be available for coaching and mentoring.
URL:https://www.girodepot.com/workshop/fibre-cafe-2/2028-01-15/
CATEGORIES:Fibre Café
ATTACH;FMTTYPE=image/png:https://www.girodepot.com/wp-content/uploads/2026/02/Group-1-1-e1772070646688.png
END:VEVENT
BEGIN:VEVENT
DTSTART;TZID=America/Vancouver:20280122T130000
DTEND;TZID=America/Vancouver:20280122T153000
DTSTAMP:20260420T190809
CREATED:20260219T005449Z
LAST-MODIFIED:20260304T164558Z
UID:10000374-1832158800-1832167800@www.girodepot.com
SUMMARY:Fibre Café - mentor available
DESCRIPTION:Informal drop-in session to work on your project\, make connections\, share ideas. Suggested donation: $5.  \nKim Adam will be available for coaching and mentoring.
URL:https://www.girodepot.com/workshop/fibre-cafe-2/2028-01-22/
CATEGORIES:Fibre Café
ATTACH;FMTTYPE=image/png:https://www.girodepot.com/wp-content/uploads/2026/02/Group-1-1-e1772070646688.png
END:VEVENT
BEGIN:VEVENT
DTSTART;TZID=America/Vancouver:20280129T130000
DTEND;TZID=America/Vancouver:20280129T153000
DTSTAMP:20260420T190809
CREATED:20260219T005449Z
LAST-MODIFIED:20260304T164558Z
UID:10000375-1832763600-1832772600@www.girodepot.com
SUMMARY:Fibre Café - mentor available
DESCRIPTION:Informal drop-in session to work on your project\, make connections\, share ideas. Suggested donation: $5.  \nKim Adam will be available for coaching and mentoring.
URL:https://www.girodepot.com/workshop/fibre-cafe-2/2028-01-29/
CATEGORIES:Fibre Café
ATTACH;FMTTYPE=image/png:https://www.girodepot.com/wp-content/uploads/2026/02/Group-1-1-e1772070646688.png
END:VEVENT
BEGIN:VEVENT
DTSTART;TZID=America/Vancouver:20280205T130000
DTEND;TZID=America/Vancouver:20280205T153000
DTSTAMP:20260420T190809
CREATED:20260219T005449Z
LAST-MODIFIED:20260304T164558Z
UID:10000376-1833368400-1833377400@www.girodepot.com
SUMMARY:Fibre Café - mentor available
DESCRIPTION:Informal drop-in session to work on your project\, make connections\, share ideas. Suggested donation: $5.  \nKim Adam will be available for coaching and mentoring.
URL:https://www.girodepot.com/workshop/fibre-cafe-2/2028-02-05/
CATEGORIES:Fibre Café
ATTACH;FMTTYPE=image/png:https://www.girodepot.com/wp-content/uploads/2026/02/Group-1-1-e1772070646688.png
END:VEVENT
BEGIN:VEVENT
DTSTART;TZID=America/Vancouver:20280212T130000
DTEND;TZID=America/Vancouver:20280212T153000
DTSTAMP:20260420T190809
CREATED:20260219T005449Z
LAST-MODIFIED:20260304T164558Z
UID:10000377-1833973200-1833982200@www.girodepot.com
SUMMARY:Fibre Café - mentor available
DESCRIPTION:Informal drop-in session to work on your project\, make connections\, share ideas. Suggested donation: $5.  \nKim Adam will be available for coaching and mentoring.
URL:https://www.girodepot.com/workshop/fibre-cafe-2/2028-02-12/
CATEGORIES:Fibre Café
ATTACH;FMTTYPE=image/png:https://www.girodepot.com/wp-content/uploads/2026/02/Group-1-1-e1772070646688.png
END:VEVENT
BEGIN:VEVENT
DTSTART;TZID=America/Vancouver:20280219T130000
DTEND;TZID=America/Vancouver:20280219T153000
DTSTAMP:20260420T190809
CREATED:20260219T005449Z
LAST-MODIFIED:20260304T164558Z
UID:10000378-1834578000-1834587000@www.girodepot.com
SUMMARY:Fibre Café - mentor available
DESCRIPTION:Informal drop-in session to work on your project\, make connections\, share ideas. Suggested donation: $5.  \nKim Adam will be available for coaching and mentoring.
URL:https://www.girodepot.com/workshop/fibre-cafe-2/2028-02-19/
CATEGORIES:Fibre Café
ATTACH;FMTTYPE=image/png:https://www.girodepot.com/wp-content/uploads/2026/02/Group-1-1-e1772070646688.png
END:VEVENT
BEGIN:VEVENT
DTSTART;TZID=America/Vancouver:20280226T130000
DTEND;TZID=America/Vancouver:20280226T153000
DTSTAMP:20260420T190809
CREATED:20260219T005449Z
LAST-MODIFIED:20260304T164558Z
UID:10000379-1835182800-1835191800@www.girodepot.com
SUMMARY:Fibre Café - mentor available
DESCRIPTION:Informal drop-in session to work on your project\, make connections\, share ideas. Suggested donation: $5.  \nKim Adam will be available for coaching and mentoring.
URL:https://www.girodepot.com/workshop/fibre-cafe-2/2028-02-26/
CATEGORIES:Fibre Café
ATTACH;FMTTYPE=image/png:https://www.girodepot.com/wp-content/uploads/2026/02/Group-1-1-e1772070646688.png
END:VEVENT
BEGIN:VEVENT
DTSTART;TZID=America/Vancouver:20280304T130000
DTEND;TZID=America/Vancouver:20280304T153000
DTSTAMP:20260420T190809
CREATED:20260219T005449Z
LAST-MODIFIED:20260304T164558Z
UID:10000380-1835787600-1835796600@www.girodepot.com
SUMMARY:Fibre Café - mentor available
DESCRIPTION:Informal drop-in session to work on your project\, make connections\, share ideas. Suggested donation: $5.  \nKim Adam will be available for coaching and mentoring.
URL:https://www.girodepot.com/workshop/fibre-cafe-2/2028-03-04/
CATEGORIES:Fibre Café
ATTACH;FMTTYPE=image/png:https://www.girodepot.com/wp-content/uploads/2026/02/Group-1-1-e1772070646688.png
END:VEVENT
BEGIN:VEVENT
DTSTART;TZID=America/Vancouver:20280311T130000
DTEND;TZID=America/Vancouver:20280311T153000
DTSTAMP:20260420T190809
CREATED:20260219T005449Z
LAST-MODIFIED:20260304T164558Z
UID:10000381-1836392400-1836401400@www.girodepot.com
SUMMARY:Fibre Café - mentor available
DESCRIPTION:Informal drop-in session to work on your project\, make connections\, share ideas. Suggested donation: $5.  \nKim Adam will be available for coaching and mentoring.
URL:https://www.girodepot.com/workshop/fibre-cafe-2/2028-03-11/
CATEGORIES:Fibre Café
ATTACH;FMTTYPE=image/png:https://www.girodepot.com/wp-content/uploads/2026/02/Group-1-1-e1772070646688.png
END:VEVENT
BEGIN:VEVENT
DTSTART;TZID=America/Vancouver:20280318T130000
DTEND;TZID=America/Vancouver:20280318T153000
DTSTAMP:20260420T190809
CREATED:20260219T005449Z
LAST-MODIFIED:20260304T164558Z
UID:10000382-1836997200-1837006200@www.girodepot.com
SUMMARY:Fibre Café - mentor available
DESCRIPTION:Informal drop-in session to work on your project\, make connections\, share ideas. Suggested donation: $5.  \nKim Adam will be available for coaching and mentoring.
URL:https://www.girodepot.com/workshop/fibre-cafe-2/2028-03-18/
CATEGORIES:Fibre Café
ATTACH;FMTTYPE=image/png:https://www.girodepot.com/wp-content/uploads/2026/02/Group-1-1-e1772070646688.png
END:VEVENT
BEGIN:VEVENT
DTSTART;TZID=America/Vancouver:20280325T130000
DTEND;TZID=America/Vancouver:20280325T153000
DTSTAMP:20260420T190809
CREATED:20260219T005449Z
LAST-MODIFIED:20260304T164558Z
UID:10000383-1837602000-1837611000@www.girodepot.com
SUMMARY:Fibre Café - mentor available
DESCRIPTION:Informal drop-in session to work on your project\, make connections\, share ideas. Suggested donation: $5.  \nKim Adam will be available for coaching and mentoring.
URL:https://www.girodepot.com/workshop/fibre-cafe-2/2028-03-25/
CATEGORIES:Fibre Café
ATTACH;FMTTYPE=image/png:https://www.girodepot.com/wp-content/uploads/2026/02/Group-1-1-e1772070646688.png
END:VEVENT
BEGIN:VEVENT
DTSTART;TZID=America/Vancouver:20280401T130000
DTEND;TZID=America/Vancouver:20280401T153000
DTSTAMP:20260420T190809
CREATED:20260219T005449Z
LAST-MODIFIED:20260304T164558Z
UID:10000384-1838206800-1838215800@www.girodepot.com
SUMMARY:Fibre Café - mentor available
DESCRIPTION:Informal drop-in session to work on your project\, make connections\, share ideas. Suggested donation: $5.  \nKim Adam will be available for coaching and mentoring.
URL:https://www.girodepot.com/workshop/fibre-cafe-2/2028-04-01/
CATEGORIES:Fibre Café
ATTACH;FMTTYPE=image/png:https://www.girodepot.com/wp-content/uploads/2026/02/Group-1-1-e1772070646688.png
END:VEVENT
BEGIN:VEVENT
DTSTART;TZID=America/Vancouver:20280408T130000
DTEND;TZID=America/Vancouver:20280408T153000
DTSTAMP:20260420T190809
CREATED:20260219T005449Z
LAST-MODIFIED:20260304T164558Z
UID:10000385-1838811600-1838820600@www.girodepot.com
SUMMARY:Fibre Café - mentor available
DESCRIPTION:Informal drop-in session to work on your project\, make connections\, share ideas. Suggested donation: $5.  \nKim Adam will be available for coaching and mentoring.
URL:https://www.girodepot.com/workshop/fibre-cafe-2/2028-04-08/
CATEGORIES:Fibre Café
ATTACH;FMTTYPE=image/png:https://www.girodepot.com/wp-content/uploads/2026/02/Group-1-1-e1772070646688.png
END:VEVENT
BEGIN:VEVENT
DTSTART;TZID=America/Vancouver:20280415T130000
DTEND;TZID=America/Vancouver:20280415T153000
DTSTAMP:20260420T190809
CREATED:20260219T005449Z
LAST-MODIFIED:20260304T164558Z
UID:10000386-1839416400-1839425400@www.girodepot.com
SUMMARY:Fibre Café - mentor available
DESCRIPTION:Informal drop-in session to work on your project\, make connections\, share ideas. Suggested donation: $5.  \nKim Adam will be available for coaching and mentoring.
URL:https://www.girodepot.com/workshop/fibre-cafe-2/2028-04-15/
CATEGORIES:Fibre Café
ATTACH;FMTTYPE=image/png:https://www.girodepot.com/wp-content/uploads/2026/02/Group-1-1-e1772070646688.png
END:VEVENT
BEGIN:VEVENT
DTSTART;TZID=America/Vancouver:20280422T130000
DTEND;TZID=America/Vancouver:20280422T153000
DTSTAMP:20260420T190809
CREATED:20260219T005449Z
LAST-MODIFIED:20260304T164558Z
UID:10000387-1840021200-1840030200@www.girodepot.com
SUMMARY:Fibre Café - mentor available
DESCRIPTION:Informal drop-in session to work on your project\, make connections\, share ideas. Suggested donation: $5.  \nKim Adam will be available for coaching and mentoring.
URL:https://www.girodepot.com/workshop/fibre-cafe-2/2028-04-22/
CATEGORIES:Fibre Café
ATTACH;FMTTYPE=image/png:https://www.girodepot.com/wp-content/uploads/2026/02/Group-1-1-e1772070646688.png
END:VEVENT
BEGIN:VEVENT
DTSTART;TZID=America/Vancouver:20280429T130000
DTEND;TZID=America/Vancouver:20280429T153000
DTSTAMP:20260420T190809
CREATED:20260219T005449Z
LAST-MODIFIED:20260304T164558Z
UID:10000388-1840626000-1840635000@www.girodepot.com
SUMMARY:Fibre Café - mentor available
DESCRIPTION:Informal drop-in session to work on your project\, make connections\, share ideas. Suggested donation: $5.  \nKim Adam will be available for coaching and mentoring.
URL:https://www.girodepot.com/workshop/fibre-cafe-2/2028-04-29/
CATEGORIES:Fibre Café
ATTACH;FMTTYPE=image/png:https://www.girodepot.com/wp-content/uploads/2026/02/Group-1-1-e1772070646688.png
END:VEVENT
BEGIN:VEVENT
DTSTART;TZID=America/Vancouver:20280506T130000
DTEND;TZID=America/Vancouver:20280506T153000
DTSTAMP:20260420T190809
CREATED:20260219T005449Z
LAST-MODIFIED:20260304T164558Z
UID:10000389-1841230800-1841239800@www.girodepot.com
SUMMARY:Fibre Café - mentor available
DESCRIPTION:Informal drop-in session to work on your project\, make connections\, share ideas. Suggested donation: $5.  \nKim Adam will be available for coaching and mentoring.
URL:https://www.girodepot.com/workshop/fibre-cafe-2/2028-05-06/
CATEGORIES:Fibre Café
ATTACH;FMTTYPE=image/png:https://www.girodepot.com/wp-content/uploads/2026/02/Group-1-1-e1772070646688.png
END:VEVENT
BEGIN:VEVENT
DTSTART;TZID=America/Vancouver:20280513T130000
DTEND;TZID=America/Vancouver:20280513T153000
DTSTAMP:20260420T190809
CREATED:20260219T005449Z
LAST-MODIFIED:20260304T164558Z
UID:10000390-1841835600-1841844600@www.girodepot.com
SUMMARY:Fibre Café - mentor available
DESCRIPTION:Informal drop-in session to work on your project\, make connections\, share ideas. Suggested donation: $5.  \nKim Adam will be available for coaching and mentoring.
URL:https://www.girodepot.com/workshop/fibre-cafe-2/2028-05-13/
CATEGORIES:Fibre Café
ATTACH;FMTTYPE=image/png:https://www.girodepot.com/wp-content/uploads/2026/02/Group-1-1-e1772070646688.png
END:VEVENT
BEGIN:VEVENT
DTSTART;TZID=America/Vancouver:20280520T130000
DTEND;TZID=America/Vancouver:20280520T153000
DTSTAMP:20260420T190809
CREATED:20260219T005449Z
LAST-MODIFIED:20260304T164558Z
UID:10000391-1842440400-1842449400@www.girodepot.com
SUMMARY:Fibre Café - mentor available
DESCRIPTION:Informal drop-in session to work on your project\, make connections\, share ideas. Suggested donation: $5.  \nKim Adam will be available for coaching and mentoring.
URL:https://www.girodepot.com/workshop/fibre-cafe-2/2028-05-20/
CATEGORIES:Fibre Café
ATTACH;FMTTYPE=image/png:https://www.girodepot.com/wp-content/uploads/2026/02/Group-1-1-e1772070646688.png
END:VEVENT
END:VCALENDAR