BEGIN:VCALENDAR
VERSION:2.0
PRODID:-//Gabriola Island Recycling Organization - ECPv6.15.20//NONSGML v1.0//EN
CALSCALE:GREGORIAN
METHOD:PUBLISH
X-WR-CALNAME:Gabriola Island Recycling Organization
X-ORIGINAL-URL:https://www.girodepot.com
X-WR-CALDESC:Events for Gabriola Island Recycling Organization
REFRESH-INTERVAL;VALUE=DURATION:PT1H
X-Robots-Tag:noindex
X-PUBLISHED-TTL:PT1H
BEGIN:VTIMEZONE
TZID:America/Vancouver
BEGIN:DAYLIGHT
TZOFFSETFROM:-0800
TZOFFSETTO:-0700
TZNAME:PDT
DTSTART:20280312T100000
END:DAYLIGHT
BEGIN:STANDARD
TZOFFSETFROM:-0700
TZOFFSETTO:-0800
TZNAME:PST
DTSTART:20281105T090000
END:STANDARD
BEGIN:DAYLIGHT
TZOFFSETFROM:-0800
TZOFFSETTO:-0700
TZNAME:PDT
DTSTART:20290311T100000
END:DAYLIGHT
BEGIN:STANDARD
TZOFFSETFROM:-0700
TZOFFSETTO:-0800
TZNAME:PST
DTSTART:20291104T090000
END:STANDARD
BEGIN:DAYLIGHT
TZOFFSETFROM:-0800
TZOFFSETTO:-0700
TZNAME:PDT
DTSTART:20300310T100000
END:DAYLIGHT
BEGIN:STANDARD
TZOFFSETFROM:-0700
TZOFFSETTO:-0800
TZNAME:PST
DTSTART:20301103T090000
END:STANDARD
BEGIN:DAYLIGHT
TZOFFSETFROM:-0800
TZOFFSETTO:-0700
TZNAME:PDT
DTSTART:20310309T100000
END:DAYLIGHT
BEGIN:STANDARD
TZOFFSETFROM:-0700
TZOFFSETTO:-0800
TZNAME:PST
DTSTART:20311102T090000
END:STANDARD
END:VTIMEZONE
BEGIN:VEVENT
DTSTART;TZID=America/Vancouver:20291208T130000
DTEND;TZID=America/Vancouver:20291208T153000
DTSTAMP:20260421T133819
CREATED:20260219T005449Z
LAST-MODIFIED:20260304T164558Z
UID:10000472-1891429200-1891438200@www.girodepot.com
SUMMARY:Fibre Café - mentor available
DESCRIPTION:Informal drop-in session to work on your project\, make connections\, share ideas. Suggested donation: $5.  \nKim Adam will be available for coaching and mentoring.
URL:https://www.girodepot.com/workshop/fibre-cafe-2/2029-12-08/
CATEGORIES:Fibre Café
ATTACH;FMTTYPE=image/png:https://www.girodepot.com/wp-content/uploads/2026/02/Group-1-1-e1772070646688.png
END:VEVENT
BEGIN:VEVENT
DTSTART;TZID=America/Vancouver:20291215T130000
DTEND;TZID=America/Vancouver:20291215T153000
DTSTAMP:20260421T133819
CREATED:20260219T005449Z
LAST-MODIFIED:20260304T164558Z
UID:10000473-1892034000-1892043000@www.girodepot.com
SUMMARY:Fibre Café - mentor available
DESCRIPTION:Informal drop-in session to work on your project\, make connections\, share ideas. Suggested donation: $5.  \nKim Adam will be available for coaching and mentoring.
URL:https://www.girodepot.com/workshop/fibre-cafe-2/2029-12-15/
CATEGORIES:Fibre Café
ATTACH;FMTTYPE=image/png:https://www.girodepot.com/wp-content/uploads/2026/02/Group-1-1-e1772070646688.png
END:VEVENT
BEGIN:VEVENT
DTSTART;TZID=America/Vancouver:20291222T130000
DTEND;TZID=America/Vancouver:20291222T153000
DTSTAMP:20260421T133819
CREATED:20260219T005449Z
LAST-MODIFIED:20260304T164558Z
UID:10000474-1892638800-1892647800@www.girodepot.com
SUMMARY:Fibre Café - mentor available
DESCRIPTION:Informal drop-in session to work on your project\, make connections\, share ideas. Suggested donation: $5.  \nKim Adam will be available for coaching and mentoring.
URL:https://www.girodepot.com/workshop/fibre-cafe-2/2029-12-22/
CATEGORIES:Fibre Café
ATTACH;FMTTYPE=image/png:https://www.girodepot.com/wp-content/uploads/2026/02/Group-1-1-e1772070646688.png
END:VEVENT
BEGIN:VEVENT
DTSTART;TZID=America/Vancouver:20291229T130000
DTEND;TZID=America/Vancouver:20291229T153000
DTSTAMP:20260421T133819
CREATED:20260219T005449Z
LAST-MODIFIED:20260304T164558Z
UID:10000475-1893243600-1893252600@www.girodepot.com
SUMMARY:Fibre Café - mentor available
DESCRIPTION:Informal drop-in session to work on your project\, make connections\, share ideas. Suggested donation: $5.  \nKim Adam will be available for coaching and mentoring.
URL:https://www.girodepot.com/workshop/fibre-cafe-2/2029-12-29/
CATEGORIES:Fibre Café
ATTACH;FMTTYPE=image/png:https://www.girodepot.com/wp-content/uploads/2026/02/Group-1-1-e1772070646688.png
END:VEVENT
BEGIN:VEVENT
DTSTART;TZID=America/Vancouver:20300105T130000
DTEND;TZID=America/Vancouver:20300105T153000
DTSTAMP:20260421T133819
CREATED:20260219T005449Z
LAST-MODIFIED:20260304T164558Z
UID:10000476-1893848400-1893857400@www.girodepot.com
SUMMARY:Fibre Café - mentor available
DESCRIPTION:Informal drop-in session to work on your project\, make connections\, share ideas. Suggested donation: $5.  \nKim Adam will be available for coaching and mentoring.
URL:https://www.girodepot.com/workshop/fibre-cafe-2/2030-01-05/
CATEGORIES:Fibre Café
ATTACH;FMTTYPE=image/png:https://www.girodepot.com/wp-content/uploads/2026/02/Group-1-1-e1772070646688.png
END:VEVENT
BEGIN:VEVENT
DTSTART;TZID=America/Vancouver:20300112T130000
DTEND;TZID=America/Vancouver:20300112T153000
DTSTAMP:20260421T133819
CREATED:20260219T005449Z
LAST-MODIFIED:20260304T164558Z
UID:10000477-1894453200-1894462200@www.girodepot.com
SUMMARY:Fibre Café - mentor available
DESCRIPTION:Informal drop-in session to work on your project\, make connections\, share ideas. Suggested donation: $5.  \nKim Adam will be available for coaching and mentoring.
URL:https://www.girodepot.com/workshop/fibre-cafe-2/2030-01-12/
CATEGORIES:Fibre Café
ATTACH;FMTTYPE=image/png:https://www.girodepot.com/wp-content/uploads/2026/02/Group-1-1-e1772070646688.png
END:VEVENT
BEGIN:VEVENT
DTSTART;TZID=America/Vancouver:20300119T130000
DTEND;TZID=America/Vancouver:20300119T153000
DTSTAMP:20260421T133819
CREATED:20260219T005449Z
LAST-MODIFIED:20260304T164558Z
UID:10000478-1895058000-1895067000@www.girodepot.com
SUMMARY:Fibre Café - mentor available
DESCRIPTION:Informal drop-in session to work on your project\, make connections\, share ideas. Suggested donation: $5.  \nKim Adam will be available for coaching and mentoring.
URL:https://www.girodepot.com/workshop/fibre-cafe-2/2030-01-19/
CATEGORIES:Fibre Café
ATTACH;FMTTYPE=image/png:https://www.girodepot.com/wp-content/uploads/2026/02/Group-1-1-e1772070646688.png
END:VEVENT
BEGIN:VEVENT
DTSTART;TZID=America/Vancouver:20300126T130000
DTEND;TZID=America/Vancouver:20300126T153000
DTSTAMP:20260421T133819
CREATED:20260219T005449Z
LAST-MODIFIED:20260304T164558Z
UID:10000479-1895662800-1895671800@www.girodepot.com
SUMMARY:Fibre Café - mentor available
DESCRIPTION:Informal drop-in session to work on your project\, make connections\, share ideas. Suggested donation: $5.  \nKim Adam will be available for coaching and mentoring.
URL:https://www.girodepot.com/workshop/fibre-cafe-2/2030-01-26/
CATEGORIES:Fibre Café
ATTACH;FMTTYPE=image/png:https://www.girodepot.com/wp-content/uploads/2026/02/Group-1-1-e1772070646688.png
END:VEVENT
BEGIN:VEVENT
DTSTART;TZID=America/Vancouver:20300202T130000
DTEND;TZID=America/Vancouver:20300202T153000
DTSTAMP:20260421T133819
CREATED:20260219T005449Z
LAST-MODIFIED:20260304T164558Z
UID:10000480-1896267600-1896276600@www.girodepot.com
SUMMARY:Fibre Café - mentor available
DESCRIPTION:Informal drop-in session to work on your project\, make connections\, share ideas. Suggested donation: $5.  \nKim Adam will be available for coaching and mentoring.
URL:https://www.girodepot.com/workshop/fibre-cafe-2/2030-02-02/
CATEGORIES:Fibre Café
ATTACH;FMTTYPE=image/png:https://www.girodepot.com/wp-content/uploads/2026/02/Group-1-1-e1772070646688.png
END:VEVENT
BEGIN:VEVENT
DTSTART;TZID=America/Vancouver:20300209T130000
DTEND;TZID=America/Vancouver:20300209T153000
DTSTAMP:20260421T133819
CREATED:20260219T005449Z
LAST-MODIFIED:20260304T164558Z
UID:10000481-1896872400-1896881400@www.girodepot.com
SUMMARY:Fibre Café - mentor available
DESCRIPTION:Informal drop-in session to work on your project\, make connections\, share ideas. Suggested donation: $5.  \nKim Adam will be available for coaching and mentoring.
URL:https://www.girodepot.com/workshop/fibre-cafe-2/2030-02-09/
CATEGORIES:Fibre Café
ATTACH;FMTTYPE=image/png:https://www.girodepot.com/wp-content/uploads/2026/02/Group-1-1-e1772070646688.png
END:VEVENT
BEGIN:VEVENT
DTSTART;TZID=America/Vancouver:20300216T130000
DTEND;TZID=America/Vancouver:20300216T153000
DTSTAMP:20260421T133819
CREATED:20260219T005449Z
LAST-MODIFIED:20260304T164558Z
UID:10000482-1897477200-1897486200@www.girodepot.com
SUMMARY:Fibre Café - mentor available
DESCRIPTION:Informal drop-in session to work on your project\, make connections\, share ideas. Suggested donation: $5.  \nKim Adam will be available for coaching and mentoring.
URL:https://www.girodepot.com/workshop/fibre-cafe-2/2030-02-16/
CATEGORIES:Fibre Café
ATTACH;FMTTYPE=image/png:https://www.girodepot.com/wp-content/uploads/2026/02/Group-1-1-e1772070646688.png
END:VEVENT
BEGIN:VEVENT
DTSTART;TZID=America/Vancouver:20300223T130000
DTEND;TZID=America/Vancouver:20300223T153000
DTSTAMP:20260421T133819
CREATED:20260219T005449Z
LAST-MODIFIED:20260304T164558Z
UID:10000483-1898082000-1898091000@www.girodepot.com
SUMMARY:Fibre Café - mentor available
DESCRIPTION:Informal drop-in session to work on your project\, make connections\, share ideas. Suggested donation: $5.  \nKim Adam will be available for coaching and mentoring.
URL:https://www.girodepot.com/workshop/fibre-cafe-2/2030-02-23/
CATEGORIES:Fibre Café
ATTACH;FMTTYPE=image/png:https://www.girodepot.com/wp-content/uploads/2026/02/Group-1-1-e1772070646688.png
END:VEVENT
BEGIN:VEVENT
DTSTART;TZID=America/Vancouver:20300302T130000
DTEND;TZID=America/Vancouver:20300302T153000
DTSTAMP:20260421T133819
CREATED:20260219T005449Z
LAST-MODIFIED:20260304T164558Z
UID:10000484-1898686800-1898695800@www.girodepot.com
SUMMARY:Fibre Café - mentor available
DESCRIPTION:Informal drop-in session to work on your project\, make connections\, share ideas. Suggested donation: $5.  \nKim Adam will be available for coaching and mentoring.
URL:https://www.girodepot.com/workshop/fibre-cafe-2/2030-03-02/
CATEGORIES:Fibre Café
ATTACH;FMTTYPE=image/png:https://www.girodepot.com/wp-content/uploads/2026/02/Group-1-1-e1772070646688.png
END:VEVENT
BEGIN:VEVENT
DTSTART;TZID=America/Vancouver:20300309T130000
DTEND;TZID=America/Vancouver:20300309T153000
DTSTAMP:20260421T133819
CREATED:20260219T005449Z
LAST-MODIFIED:20260304T164558Z
UID:10000485-1899291600-1899300600@www.girodepot.com
SUMMARY:Fibre Café - mentor available
DESCRIPTION:Informal drop-in session to work on your project\, make connections\, share ideas. Suggested donation: $5.  \nKim Adam will be available for coaching and mentoring.
URL:https://www.girodepot.com/workshop/fibre-cafe-2/2030-03-09/
CATEGORIES:Fibre Café
ATTACH;FMTTYPE=image/png:https://www.girodepot.com/wp-content/uploads/2026/02/Group-1-1-e1772070646688.png
END:VEVENT
BEGIN:VEVENT
DTSTART;TZID=America/Vancouver:20300316T130000
DTEND;TZID=America/Vancouver:20300316T153000
DTSTAMP:20260421T133819
CREATED:20260219T005449Z
LAST-MODIFIED:20260304T164558Z
UID:10000486-1899896400-1899905400@www.girodepot.com
SUMMARY:Fibre Café - mentor available
DESCRIPTION:Informal drop-in session to work on your project\, make connections\, share ideas. Suggested donation: $5.  \nKim Adam will be available for coaching and mentoring.
URL:https://www.girodepot.com/workshop/fibre-cafe-2/2030-03-16/
CATEGORIES:Fibre Café
ATTACH;FMTTYPE=image/png:https://www.girodepot.com/wp-content/uploads/2026/02/Group-1-1-e1772070646688.png
END:VEVENT
BEGIN:VEVENT
DTSTART;TZID=America/Vancouver:20300323T130000
DTEND;TZID=America/Vancouver:20300323T153000
DTSTAMP:20260421T133819
CREATED:20260219T005449Z
LAST-MODIFIED:20260304T164558Z
UID:10000487-1900501200-1900510200@www.girodepot.com
SUMMARY:Fibre Café - mentor available
DESCRIPTION:Informal drop-in session to work on your project\, make connections\, share ideas. Suggested donation: $5.  \nKim Adam will be available for coaching and mentoring.
URL:https://www.girodepot.com/workshop/fibre-cafe-2/2030-03-23/
CATEGORIES:Fibre Café
ATTACH;FMTTYPE=image/png:https://www.girodepot.com/wp-content/uploads/2026/02/Group-1-1-e1772070646688.png
END:VEVENT
BEGIN:VEVENT
DTSTART;TZID=America/Vancouver:20300330T130000
DTEND;TZID=America/Vancouver:20300330T153000
DTSTAMP:20260421T133819
CREATED:20260219T005449Z
LAST-MODIFIED:20260304T164558Z
UID:10000488-1901106000-1901115000@www.girodepot.com
SUMMARY:Fibre Café - mentor available
DESCRIPTION:Informal drop-in session to work on your project\, make connections\, share ideas. Suggested donation: $5.  \nKim Adam will be available for coaching and mentoring.
URL:https://www.girodepot.com/workshop/fibre-cafe-2/2030-03-30/
CATEGORIES:Fibre Café
ATTACH;FMTTYPE=image/png:https://www.girodepot.com/wp-content/uploads/2026/02/Group-1-1-e1772070646688.png
END:VEVENT
BEGIN:VEVENT
DTSTART;TZID=America/Vancouver:20300406T130000
DTEND;TZID=America/Vancouver:20300406T153000
DTSTAMP:20260421T133819
CREATED:20260219T005449Z
LAST-MODIFIED:20260304T164558Z
UID:10000489-1901710800-1901719800@www.girodepot.com
SUMMARY:Fibre Café - mentor available
DESCRIPTION:Informal drop-in session to work on your project\, make connections\, share ideas. Suggested donation: $5.  \nKim Adam will be available for coaching and mentoring.
URL:https://www.girodepot.com/workshop/fibre-cafe-2/2030-04-06/
CATEGORIES:Fibre Café
ATTACH;FMTTYPE=image/png:https://www.girodepot.com/wp-content/uploads/2026/02/Group-1-1-e1772070646688.png
END:VEVENT
BEGIN:VEVENT
DTSTART;TZID=America/Vancouver:20300413T130000
DTEND;TZID=America/Vancouver:20300413T153000
DTSTAMP:20260421T133819
CREATED:20260219T005449Z
LAST-MODIFIED:20260304T164558Z
UID:10000490-1902315600-1902324600@www.girodepot.com
SUMMARY:Fibre Café - mentor available
DESCRIPTION:Informal drop-in session to work on your project\, make connections\, share ideas. Suggested donation: $5.  \nKim Adam will be available for coaching and mentoring.
URL:https://www.girodepot.com/workshop/fibre-cafe-2/2030-04-13/
CATEGORIES:Fibre Café
ATTACH;FMTTYPE=image/png:https://www.girodepot.com/wp-content/uploads/2026/02/Group-1-1-e1772070646688.png
END:VEVENT
BEGIN:VEVENT
DTSTART;TZID=America/Vancouver:20300420T130000
DTEND;TZID=America/Vancouver:20300420T153000
DTSTAMP:20260421T133819
CREATED:20260219T005449Z
LAST-MODIFIED:20260304T164558Z
UID:10000491-1902920400-1902929400@www.girodepot.com
SUMMARY:Fibre Café - mentor available
DESCRIPTION:Informal drop-in session to work on your project\, make connections\, share ideas. Suggested donation: $5.  \nKim Adam will be available for coaching and mentoring.
URL:https://www.girodepot.com/workshop/fibre-cafe-2/2030-04-20/
CATEGORIES:Fibre Café
ATTACH;FMTTYPE=image/png:https://www.girodepot.com/wp-content/uploads/2026/02/Group-1-1-e1772070646688.png
END:VEVENT
BEGIN:VEVENT
DTSTART;TZID=America/Vancouver:20300427T130000
DTEND;TZID=America/Vancouver:20300427T153000
DTSTAMP:20260421T133819
CREATED:20260219T005449Z
LAST-MODIFIED:20260304T164558Z
UID:10000492-1903525200-1903534200@www.girodepot.com
SUMMARY:Fibre Café - mentor available
DESCRIPTION:Informal drop-in session to work on your project\, make connections\, share ideas. Suggested donation: $5.  \nKim Adam will be available for coaching and mentoring.
URL:https://www.girodepot.com/workshop/fibre-cafe-2/2030-04-27/
CATEGORIES:Fibre Café
ATTACH;FMTTYPE=image/png:https://www.girodepot.com/wp-content/uploads/2026/02/Group-1-1-e1772070646688.png
END:VEVENT
BEGIN:VEVENT
DTSTART;TZID=America/Vancouver:20300504T130000
DTEND;TZID=America/Vancouver:20300504T153000
DTSTAMP:20260421T133819
CREATED:20260219T005449Z
LAST-MODIFIED:20260304T164558Z
UID:10000493-1904130000-1904139000@www.girodepot.com
SUMMARY:Fibre Café - mentor available
DESCRIPTION:Informal drop-in session to work on your project\, make connections\, share ideas. Suggested donation: $5.  \nKim Adam will be available for coaching and mentoring.
URL:https://www.girodepot.com/workshop/fibre-cafe-2/2030-05-04/
CATEGORIES:Fibre Café
ATTACH;FMTTYPE=image/png:https://www.girodepot.com/wp-content/uploads/2026/02/Group-1-1-e1772070646688.png
END:VEVENT
BEGIN:VEVENT
DTSTART;TZID=America/Vancouver:20300511T130000
DTEND;TZID=America/Vancouver:20300511T153000
DTSTAMP:20260421T133819
CREATED:20260219T005449Z
LAST-MODIFIED:20260304T164558Z
UID:10000494-1904734800-1904743800@www.girodepot.com
SUMMARY:Fibre Café - mentor available
DESCRIPTION:Informal drop-in session to work on your project\, make connections\, share ideas. Suggested donation: $5.  \nKim Adam will be available for coaching and mentoring.
URL:https://www.girodepot.com/workshop/fibre-cafe-2/2030-05-11/
CATEGORIES:Fibre Café
ATTACH;FMTTYPE=image/png:https://www.girodepot.com/wp-content/uploads/2026/02/Group-1-1-e1772070646688.png
END:VEVENT
BEGIN:VEVENT
DTSTART;TZID=America/Vancouver:20300518T130000
DTEND;TZID=America/Vancouver:20300518T153000
DTSTAMP:20260421T133820
CREATED:20260219T005449Z
LAST-MODIFIED:20260304T164558Z
UID:10000495-1905339600-1905348600@www.girodepot.com
SUMMARY:Fibre Café - mentor available
DESCRIPTION:Informal drop-in session to work on your project\, make connections\, share ideas. Suggested donation: $5.  \nKim Adam will be available for coaching and mentoring.
URL:https://www.girodepot.com/workshop/fibre-cafe-2/2030-05-18/
CATEGORIES:Fibre Café
ATTACH;FMTTYPE=image/png:https://www.girodepot.com/wp-content/uploads/2026/02/Group-1-1-e1772070646688.png
END:VEVENT
BEGIN:VEVENT
DTSTART;TZID=America/Vancouver:20300525T130000
DTEND;TZID=America/Vancouver:20300525T153000
DTSTAMP:20260421T133820
CREATED:20260219T005449Z
LAST-MODIFIED:20260304T164558Z
UID:10000496-1905944400-1905953400@www.girodepot.com
SUMMARY:Fibre Café - mentor available
DESCRIPTION:Informal drop-in session to work on your project\, make connections\, share ideas. Suggested donation: $5.  \nKim Adam will be available for coaching and mentoring.
URL:https://www.girodepot.com/workshop/fibre-cafe-2/2030-05-25/
CATEGORIES:Fibre Café
ATTACH;FMTTYPE=image/png:https://www.girodepot.com/wp-content/uploads/2026/02/Group-1-1-e1772070646688.png
END:VEVENT
BEGIN:VEVENT
DTSTART;TZID=America/Vancouver:20300601T130000
DTEND;TZID=America/Vancouver:20300601T153000
DTSTAMP:20260421T133820
CREATED:20260219T005449Z
LAST-MODIFIED:20260304T164558Z
UID:10000497-1906549200-1906558200@www.girodepot.com
SUMMARY:Fibre Café - mentor available
DESCRIPTION:Informal drop-in session to work on your project\, make connections\, share ideas. Suggested donation: $5.  \nKim Adam will be available for coaching and mentoring.
URL:https://www.girodepot.com/workshop/fibre-cafe-2/2030-06-01/
CATEGORIES:Fibre Café
ATTACH;FMTTYPE=image/png:https://www.girodepot.com/wp-content/uploads/2026/02/Group-1-1-e1772070646688.png
END:VEVENT
BEGIN:VEVENT
DTSTART;TZID=America/Vancouver:20300608T130000
DTEND;TZID=America/Vancouver:20300608T153000
DTSTAMP:20260421T133820
CREATED:20260219T005449Z
LAST-MODIFIED:20260304T164558Z
UID:10000498-1907154000-1907163000@www.girodepot.com
SUMMARY:Fibre Café - mentor available
DESCRIPTION:Informal drop-in session to work on your project\, make connections\, share ideas. Suggested donation: $5.  \nKim Adam will be available for coaching and mentoring.
URL:https://www.girodepot.com/workshop/fibre-cafe-2/2030-06-08/
CATEGORIES:Fibre Café
ATTACH;FMTTYPE=image/png:https://www.girodepot.com/wp-content/uploads/2026/02/Group-1-1-e1772070646688.png
END:VEVENT
BEGIN:VEVENT
DTSTART;TZID=America/Vancouver:20300615T130000
DTEND;TZID=America/Vancouver:20300615T153000
DTSTAMP:20260421T133820
CREATED:20260219T005449Z
LAST-MODIFIED:20260304T164558Z
UID:10000499-1907758800-1907767800@www.girodepot.com
SUMMARY:Fibre Café - mentor available
DESCRIPTION:Informal drop-in session to work on your project\, make connections\, share ideas. Suggested donation: $5.  \nKim Adam will be available for coaching and mentoring.
URL:https://www.girodepot.com/workshop/fibre-cafe-2/2030-06-15/
CATEGORIES:Fibre Café
ATTACH;FMTTYPE=image/png:https://www.girodepot.com/wp-content/uploads/2026/02/Group-1-1-e1772070646688.png
END:VEVENT
BEGIN:VEVENT
DTSTART;TZID=America/Vancouver:20300622T130000
DTEND;TZID=America/Vancouver:20300622T153000
DTSTAMP:20260421T133820
CREATED:20260219T005449Z
LAST-MODIFIED:20260304T164558Z
UID:10000500-1908363600-1908372600@www.girodepot.com
SUMMARY:Fibre Café - mentor available
DESCRIPTION:Informal drop-in session to work on your project\, make connections\, share ideas. Suggested donation: $5.  \nKim Adam will be available for coaching and mentoring.
URL:https://www.girodepot.com/workshop/fibre-cafe-2/2030-06-22/
CATEGORIES:Fibre Café
ATTACH;FMTTYPE=image/png:https://www.girodepot.com/wp-content/uploads/2026/02/Group-1-1-e1772070646688.png
END:VEVENT
BEGIN:VEVENT
DTSTART;TZID=America/Vancouver:20300629T130000
DTEND;TZID=America/Vancouver:20300629T153000
DTSTAMP:20260421T133820
CREATED:20260219T005449Z
LAST-MODIFIED:20260304T164558Z
UID:10000501-1908968400-1908977400@www.girodepot.com
SUMMARY:Fibre Café - mentor available
DESCRIPTION:Informal drop-in session to work on your project\, make connections\, share ideas. Suggested donation: $5.  \nKim Adam will be available for coaching and mentoring.
URL:https://www.girodepot.com/workshop/fibre-cafe-2/2030-06-29/
CATEGORIES:Fibre Café
ATTACH;FMTTYPE=image/png:https://www.girodepot.com/wp-content/uploads/2026/02/Group-1-1-e1772070646688.png
END:VEVENT
END:VCALENDAR