BEGIN:VCALENDAR
VERSION:2.0
PRODID:-//Gabriola Island Recycling Organization - ECPv6.15.20//NONSGML v1.0//EN
CALSCALE:GREGORIAN
METHOD:PUBLISH
X-WR-CALNAME:Gabriola Island Recycling Organization
X-ORIGINAL-URL:https://www.girodepot.com
X-WR-CALDESC:Events for Gabriola Island Recycling Organization
REFRESH-INTERVAL;VALUE=DURATION:PT1H
X-Robots-Tag:noindex
X-PUBLISHED-TTL:PT1H
BEGIN:VTIMEZONE
TZID:America/Vancouver
BEGIN:DAYLIGHT
TZOFFSETFROM:-0800
TZOFFSETTO:-0700
TZNAME:PDT
DTSTART:20270314T100000
END:DAYLIGHT
BEGIN:STANDARD
TZOFFSETFROM:-0700
TZOFFSETTO:-0800
TZNAME:PST
DTSTART:20271107T090000
END:STANDARD
BEGIN:DAYLIGHT
TZOFFSETFROM:-0800
TZOFFSETTO:-0700
TZNAME:PDT
DTSTART:20280312T100000
END:DAYLIGHT
BEGIN:STANDARD
TZOFFSETFROM:-0700
TZOFFSETTO:-0800
TZNAME:PST
DTSTART:20281105T090000
END:STANDARD
BEGIN:DAYLIGHT
TZOFFSETFROM:-0800
TZOFFSETTO:-0700
TZNAME:PDT
DTSTART:20290311T100000
END:DAYLIGHT
BEGIN:STANDARD
TZOFFSETFROM:-0700
TZOFFSETTO:-0800
TZNAME:PST
DTSTART:20291104T090000
END:STANDARD
BEGIN:DAYLIGHT
TZOFFSETFROM:-0800
TZOFFSETTO:-0700
TZNAME:PDT
DTSTART:20300310T100000
END:DAYLIGHT
BEGIN:STANDARD
TZOFFSETFROM:-0700
TZOFFSETTO:-0800
TZNAME:PST
DTSTART:20301103T090000
END:STANDARD
END:VTIMEZONE
BEGIN:VEVENT
DTSTART;TZID=America/Vancouver:20280805T130000
DTEND;TZID=America/Vancouver:20280805T153000
DTSTAMP:20260421T013423
CREATED:20260219T005449Z
LAST-MODIFIED:20260304T164558Z
UID:10000402-1849093200-1849102200@www.girodepot.com
SUMMARY:Fibre Café - mentor available
DESCRIPTION:Informal drop-in session to work on your project\, make connections\, share ideas. Suggested donation: $5.  \nKim Adam will be available for coaching and mentoring.
URL:https://www.girodepot.com/workshop/fibre-cafe-2/2028-08-05/
CATEGORIES:Fibre Café
ATTACH;FMTTYPE=image/png:https://www.girodepot.com/wp-content/uploads/2026/02/Group-1-1-e1772070646688.png
END:VEVENT
BEGIN:VEVENT
DTSTART;TZID=America/Vancouver:20280812T130000
DTEND;TZID=America/Vancouver:20280812T153000
DTSTAMP:20260421T013423
CREATED:20260219T005449Z
LAST-MODIFIED:20260304T164558Z
UID:10000403-1849698000-1849707000@www.girodepot.com
SUMMARY:Fibre Café - mentor available
DESCRIPTION:Informal drop-in session to work on your project\, make connections\, share ideas. Suggested donation: $5.  \nKim Adam will be available for coaching and mentoring.
URL:https://www.girodepot.com/workshop/fibre-cafe-2/2028-08-12/
CATEGORIES:Fibre Café
ATTACH;FMTTYPE=image/png:https://www.girodepot.com/wp-content/uploads/2026/02/Group-1-1-e1772070646688.png
END:VEVENT
BEGIN:VEVENT
DTSTART;TZID=America/Vancouver:20280819T130000
DTEND;TZID=America/Vancouver:20280819T153000
DTSTAMP:20260421T013423
CREATED:20260219T005449Z
LAST-MODIFIED:20260304T164558Z
UID:10000404-1850302800-1850311800@www.girodepot.com
SUMMARY:Fibre Café - mentor available
DESCRIPTION:Informal drop-in session to work on your project\, make connections\, share ideas. Suggested donation: $5.  \nKim Adam will be available for coaching and mentoring.
URL:https://www.girodepot.com/workshop/fibre-cafe-2/2028-08-19/
CATEGORIES:Fibre Café
ATTACH;FMTTYPE=image/png:https://www.girodepot.com/wp-content/uploads/2026/02/Group-1-1-e1772070646688.png
END:VEVENT
BEGIN:VEVENT
DTSTART;TZID=America/Vancouver:20280826T130000
DTEND;TZID=America/Vancouver:20280826T153000
DTSTAMP:20260421T013423
CREATED:20260219T005449Z
LAST-MODIFIED:20260304T164558Z
UID:10000405-1850907600-1850916600@www.girodepot.com
SUMMARY:Fibre Café - mentor available
DESCRIPTION:Informal drop-in session to work on your project\, make connections\, share ideas. Suggested donation: $5.  \nKim Adam will be available for coaching and mentoring.
URL:https://www.girodepot.com/workshop/fibre-cafe-2/2028-08-26/
CATEGORIES:Fibre Café
ATTACH;FMTTYPE=image/png:https://www.girodepot.com/wp-content/uploads/2026/02/Group-1-1-e1772070646688.png
END:VEVENT
BEGIN:VEVENT
DTSTART;TZID=America/Vancouver:20280902T130000
DTEND;TZID=America/Vancouver:20280902T153000
DTSTAMP:20260421T013423
CREATED:20260219T005449Z
LAST-MODIFIED:20260304T164558Z
UID:10000406-1851512400-1851521400@www.girodepot.com
SUMMARY:Fibre Café - mentor available
DESCRIPTION:Informal drop-in session to work on your project\, make connections\, share ideas. Suggested donation: $5.  \nKim Adam will be available for coaching and mentoring.
URL:https://www.girodepot.com/workshop/fibre-cafe-2/2028-09-02/
CATEGORIES:Fibre Café
ATTACH;FMTTYPE=image/png:https://www.girodepot.com/wp-content/uploads/2026/02/Group-1-1-e1772070646688.png
END:VEVENT
BEGIN:VEVENT
DTSTART;TZID=America/Vancouver:20280909T130000
DTEND;TZID=America/Vancouver:20280909T153000
DTSTAMP:20260421T013423
CREATED:20260219T005449Z
LAST-MODIFIED:20260304T164558Z
UID:10000407-1852117200-1852126200@www.girodepot.com
SUMMARY:Fibre Café - mentor available
DESCRIPTION:Informal drop-in session to work on your project\, make connections\, share ideas. Suggested donation: $5.  \nKim Adam will be available for coaching and mentoring.
URL:https://www.girodepot.com/workshop/fibre-cafe-2/2028-09-09/
CATEGORIES:Fibre Café
ATTACH;FMTTYPE=image/png:https://www.girodepot.com/wp-content/uploads/2026/02/Group-1-1-e1772070646688.png
END:VEVENT
BEGIN:VEVENT
DTSTART;TZID=America/Vancouver:20280916T130000
DTEND;TZID=America/Vancouver:20280916T153000
DTSTAMP:20260421T013423
CREATED:20260219T005449Z
LAST-MODIFIED:20260304T164558Z
UID:10000408-1852722000-1852731000@www.girodepot.com
SUMMARY:Fibre Café - mentor available
DESCRIPTION:Informal drop-in session to work on your project\, make connections\, share ideas. Suggested donation: $5.  \nKim Adam will be available for coaching and mentoring.
URL:https://www.girodepot.com/workshop/fibre-cafe-2/2028-09-16/
CATEGORIES:Fibre Café
ATTACH;FMTTYPE=image/png:https://www.girodepot.com/wp-content/uploads/2026/02/Group-1-1-e1772070646688.png
END:VEVENT
BEGIN:VEVENT
DTSTART;TZID=America/Vancouver:20280923T130000
DTEND;TZID=America/Vancouver:20280923T153000
DTSTAMP:20260421T013423
CREATED:20260219T005449Z
LAST-MODIFIED:20260304T164558Z
UID:10000409-1853326800-1853335800@www.girodepot.com
SUMMARY:Fibre Café - mentor available
DESCRIPTION:Informal drop-in session to work on your project\, make connections\, share ideas. Suggested donation: $5.  \nKim Adam will be available for coaching and mentoring.
URL:https://www.girodepot.com/workshop/fibre-cafe-2/2028-09-23/
CATEGORIES:Fibre Café
ATTACH;FMTTYPE=image/png:https://www.girodepot.com/wp-content/uploads/2026/02/Group-1-1-e1772070646688.png
END:VEVENT
BEGIN:VEVENT
DTSTART;TZID=America/Vancouver:20280930T130000
DTEND;TZID=America/Vancouver:20280930T153000
DTSTAMP:20260421T013423
CREATED:20260219T005449Z
LAST-MODIFIED:20260304T164558Z
UID:10000410-1853931600-1853940600@www.girodepot.com
SUMMARY:Fibre Café - mentor available
DESCRIPTION:Informal drop-in session to work on your project\, make connections\, share ideas. Suggested donation: $5.  \nKim Adam will be available for coaching and mentoring.
URL:https://www.girodepot.com/workshop/fibre-cafe-2/2028-09-30/
CATEGORIES:Fibre Café
ATTACH;FMTTYPE=image/png:https://www.girodepot.com/wp-content/uploads/2026/02/Group-1-1-e1772070646688.png
END:VEVENT
BEGIN:VEVENT
DTSTART;TZID=America/Vancouver:20281007T130000
DTEND;TZID=America/Vancouver:20281007T153000
DTSTAMP:20260421T013423
CREATED:20260219T005449Z
LAST-MODIFIED:20260304T164558Z
UID:10000411-1854536400-1854545400@www.girodepot.com
SUMMARY:Fibre Café - mentor available
DESCRIPTION:Informal drop-in session to work on your project\, make connections\, share ideas. Suggested donation: $5.  \nKim Adam will be available for coaching and mentoring.
URL:https://www.girodepot.com/workshop/fibre-cafe-2/2028-10-07/
CATEGORIES:Fibre Café
ATTACH;FMTTYPE=image/png:https://www.girodepot.com/wp-content/uploads/2026/02/Group-1-1-e1772070646688.png
END:VEVENT
BEGIN:VEVENT
DTSTART;TZID=America/Vancouver:20281014T130000
DTEND;TZID=America/Vancouver:20281014T153000
DTSTAMP:20260421T013423
CREATED:20260219T005449Z
LAST-MODIFIED:20260304T164558Z
UID:10000412-1855141200-1855150200@www.girodepot.com
SUMMARY:Fibre Café - mentor available
DESCRIPTION:Informal drop-in session to work on your project\, make connections\, share ideas. Suggested donation: $5.  \nKim Adam will be available for coaching and mentoring.
URL:https://www.girodepot.com/workshop/fibre-cafe-2/2028-10-14/
CATEGORIES:Fibre Café
ATTACH;FMTTYPE=image/png:https://www.girodepot.com/wp-content/uploads/2026/02/Group-1-1-e1772070646688.png
END:VEVENT
BEGIN:VEVENT
DTSTART;TZID=America/Vancouver:20281021T130000
DTEND;TZID=America/Vancouver:20281021T153000
DTSTAMP:20260421T013423
CREATED:20260219T005449Z
LAST-MODIFIED:20260304T164558Z
UID:10000413-1855746000-1855755000@www.girodepot.com
SUMMARY:Fibre Café - mentor available
DESCRIPTION:Informal drop-in session to work on your project\, make connections\, share ideas. Suggested donation: $5.  \nKim Adam will be available for coaching and mentoring.
URL:https://www.girodepot.com/workshop/fibre-cafe-2/2028-10-21/
CATEGORIES:Fibre Café
ATTACH;FMTTYPE=image/png:https://www.girodepot.com/wp-content/uploads/2026/02/Group-1-1-e1772070646688.png
END:VEVENT
BEGIN:VEVENT
DTSTART;TZID=America/Vancouver:20281028T130000
DTEND;TZID=America/Vancouver:20281028T153000
DTSTAMP:20260421T013423
CREATED:20260219T005449Z
LAST-MODIFIED:20260304T164558Z
UID:10000414-1856350800-1856359800@www.girodepot.com
SUMMARY:Fibre Café - mentor available
DESCRIPTION:Informal drop-in session to work on your project\, make connections\, share ideas. Suggested donation: $5.  \nKim Adam will be available for coaching and mentoring.
URL:https://www.girodepot.com/workshop/fibre-cafe-2/2028-10-28/
CATEGORIES:Fibre Café
ATTACH;FMTTYPE=image/png:https://www.girodepot.com/wp-content/uploads/2026/02/Group-1-1-e1772070646688.png
END:VEVENT
BEGIN:VEVENT
DTSTART;TZID=America/Vancouver:20281104T130000
DTEND;TZID=America/Vancouver:20281104T153000
DTSTAMP:20260421T013423
CREATED:20260219T005449Z
LAST-MODIFIED:20260304T164558Z
UID:10000415-1856955600-1856964600@www.girodepot.com
SUMMARY:Fibre Café - mentor available
DESCRIPTION:Informal drop-in session to work on your project\, make connections\, share ideas. Suggested donation: $5.  \nKim Adam will be available for coaching and mentoring.
URL:https://www.girodepot.com/workshop/fibre-cafe-2/2028-11-04/
CATEGORIES:Fibre Café
ATTACH;FMTTYPE=image/png:https://www.girodepot.com/wp-content/uploads/2026/02/Group-1-1-e1772070646688.png
END:VEVENT
BEGIN:VEVENT
DTSTART;TZID=America/Vancouver:20281111T130000
DTEND;TZID=America/Vancouver:20281111T153000
DTSTAMP:20260421T013423
CREATED:20260219T005449Z
LAST-MODIFIED:20260304T164558Z
UID:10000416-1857560400-1857569400@www.girodepot.com
SUMMARY:Fibre Café - mentor available
DESCRIPTION:Informal drop-in session to work on your project\, make connections\, share ideas. Suggested donation: $5.  \nKim Adam will be available for coaching and mentoring.
URL:https://www.girodepot.com/workshop/fibre-cafe-2/2028-11-11/
CATEGORIES:Fibre Café
ATTACH;FMTTYPE=image/png:https://www.girodepot.com/wp-content/uploads/2026/02/Group-1-1-e1772070646688.png
END:VEVENT
BEGIN:VEVENT
DTSTART;TZID=America/Vancouver:20281118T130000
DTEND;TZID=America/Vancouver:20281118T153000
DTSTAMP:20260421T013423
CREATED:20260219T005449Z
LAST-MODIFIED:20260304T164558Z
UID:10000417-1858165200-1858174200@www.girodepot.com
SUMMARY:Fibre Café - mentor available
DESCRIPTION:Informal drop-in session to work on your project\, make connections\, share ideas. Suggested donation: $5.  \nKim Adam will be available for coaching and mentoring.
URL:https://www.girodepot.com/workshop/fibre-cafe-2/2028-11-18/
CATEGORIES:Fibre Café
ATTACH;FMTTYPE=image/png:https://www.girodepot.com/wp-content/uploads/2026/02/Group-1-1-e1772070646688.png
END:VEVENT
BEGIN:VEVENT
DTSTART;TZID=America/Vancouver:20281125T130000
DTEND;TZID=America/Vancouver:20281125T153000
DTSTAMP:20260421T013423
CREATED:20260219T005449Z
LAST-MODIFIED:20260304T164558Z
UID:10000418-1858770000-1858779000@www.girodepot.com
SUMMARY:Fibre Café - mentor available
DESCRIPTION:Informal drop-in session to work on your project\, make connections\, share ideas. Suggested donation: $5.  \nKim Adam will be available for coaching and mentoring.
URL:https://www.girodepot.com/workshop/fibre-cafe-2/2028-11-25/
CATEGORIES:Fibre Café
ATTACH;FMTTYPE=image/png:https://www.girodepot.com/wp-content/uploads/2026/02/Group-1-1-e1772070646688.png
END:VEVENT
BEGIN:VEVENT
DTSTART;TZID=America/Vancouver:20281202T130000
DTEND;TZID=America/Vancouver:20281202T153000
DTSTAMP:20260421T013423
CREATED:20260219T005449Z
LAST-MODIFIED:20260304T164558Z
UID:10000419-1859374800-1859383800@www.girodepot.com
SUMMARY:Fibre Café - mentor available
DESCRIPTION:Informal drop-in session to work on your project\, make connections\, share ideas. Suggested donation: $5.  \nKim Adam will be available for coaching and mentoring.
URL:https://www.girodepot.com/workshop/fibre-cafe-2/2028-12-02/
CATEGORIES:Fibre Café
ATTACH;FMTTYPE=image/png:https://www.girodepot.com/wp-content/uploads/2026/02/Group-1-1-e1772070646688.png
END:VEVENT
BEGIN:VEVENT
DTSTART;TZID=America/Vancouver:20281209T130000
DTEND;TZID=America/Vancouver:20281209T153000
DTSTAMP:20260421T013423
CREATED:20260219T005449Z
LAST-MODIFIED:20260304T164558Z
UID:10000420-1859979600-1859988600@www.girodepot.com
SUMMARY:Fibre Café - mentor available
DESCRIPTION:Informal drop-in session to work on your project\, make connections\, share ideas. Suggested donation: $5.  \nKim Adam will be available for coaching and mentoring.
URL:https://www.girodepot.com/workshop/fibre-cafe-2/2028-12-09/
CATEGORIES:Fibre Café
ATTACH;FMTTYPE=image/png:https://www.girodepot.com/wp-content/uploads/2026/02/Group-1-1-e1772070646688.png
END:VEVENT
BEGIN:VEVENT
DTSTART;TZID=America/Vancouver:20281216T130000
DTEND;TZID=America/Vancouver:20281216T153000
DTSTAMP:20260421T013423
CREATED:20260219T005449Z
LAST-MODIFIED:20260304T164558Z
UID:10000421-1860584400-1860593400@www.girodepot.com
SUMMARY:Fibre Café - mentor available
DESCRIPTION:Informal drop-in session to work on your project\, make connections\, share ideas. Suggested donation: $5.  \nKim Adam will be available for coaching and mentoring.
URL:https://www.girodepot.com/workshop/fibre-cafe-2/2028-12-16/
CATEGORIES:Fibre Café
ATTACH;FMTTYPE=image/png:https://www.girodepot.com/wp-content/uploads/2026/02/Group-1-1-e1772070646688.png
END:VEVENT
BEGIN:VEVENT
DTSTART;TZID=America/Vancouver:20281223T130000
DTEND;TZID=America/Vancouver:20281223T153000
DTSTAMP:20260421T013423
CREATED:20260219T005449Z
LAST-MODIFIED:20260304T164558Z
UID:10000422-1861189200-1861198200@www.girodepot.com
SUMMARY:Fibre Café - mentor available
DESCRIPTION:Informal drop-in session to work on your project\, make connections\, share ideas. Suggested donation: $5.  \nKim Adam will be available for coaching and mentoring.
URL:https://www.girodepot.com/workshop/fibre-cafe-2/2028-12-23/
CATEGORIES:Fibre Café
ATTACH;FMTTYPE=image/png:https://www.girodepot.com/wp-content/uploads/2026/02/Group-1-1-e1772070646688.png
END:VEVENT
BEGIN:VEVENT
DTSTART;TZID=America/Vancouver:20281230T130000
DTEND;TZID=America/Vancouver:20281230T153000
DTSTAMP:20260421T013423
CREATED:20260219T005449Z
LAST-MODIFIED:20260304T164558Z
UID:10000423-1861794000-1861803000@www.girodepot.com
SUMMARY:Fibre Café - mentor available
DESCRIPTION:Informal drop-in session to work on your project\, make connections\, share ideas. Suggested donation: $5.  \nKim Adam will be available for coaching and mentoring.
URL:https://www.girodepot.com/workshop/fibre-cafe-2/2028-12-30/
CATEGORIES:Fibre Café
ATTACH;FMTTYPE=image/png:https://www.girodepot.com/wp-content/uploads/2026/02/Group-1-1-e1772070646688.png
END:VEVENT
BEGIN:VEVENT
DTSTART;TZID=America/Vancouver:20290106T130000
DTEND;TZID=America/Vancouver:20290106T153000
DTSTAMP:20260421T013423
CREATED:20260219T005449Z
LAST-MODIFIED:20260304T164558Z
UID:10000424-1862398800-1862407800@www.girodepot.com
SUMMARY:Fibre Café - mentor available
DESCRIPTION:Informal drop-in session to work on your project\, make connections\, share ideas. Suggested donation: $5.  \nKim Adam will be available for coaching and mentoring.
URL:https://www.girodepot.com/workshop/fibre-cafe-2/2029-01-06/
CATEGORIES:Fibre Café
ATTACH;FMTTYPE=image/png:https://www.girodepot.com/wp-content/uploads/2026/02/Group-1-1-e1772070646688.png
END:VEVENT
BEGIN:VEVENT
DTSTART;TZID=America/Vancouver:20290113T130000
DTEND;TZID=America/Vancouver:20290113T153000
DTSTAMP:20260421T013423
CREATED:20260219T005449Z
LAST-MODIFIED:20260304T164558Z
UID:10000425-1863003600-1863012600@www.girodepot.com
SUMMARY:Fibre Café - mentor available
DESCRIPTION:Informal drop-in session to work on your project\, make connections\, share ideas. Suggested donation: $5.  \nKim Adam will be available for coaching and mentoring.
URL:https://www.girodepot.com/workshop/fibre-cafe-2/2029-01-13/
CATEGORIES:Fibre Café
ATTACH;FMTTYPE=image/png:https://www.girodepot.com/wp-content/uploads/2026/02/Group-1-1-e1772070646688.png
END:VEVENT
BEGIN:VEVENT
DTSTART;TZID=America/Vancouver:20290120T130000
DTEND;TZID=America/Vancouver:20290120T153000
DTSTAMP:20260421T013423
CREATED:20260219T005449Z
LAST-MODIFIED:20260304T164558Z
UID:10000426-1863608400-1863617400@www.girodepot.com
SUMMARY:Fibre Café - mentor available
DESCRIPTION:Informal drop-in session to work on your project\, make connections\, share ideas. Suggested donation: $5.  \nKim Adam will be available for coaching and mentoring.
URL:https://www.girodepot.com/workshop/fibre-cafe-2/2029-01-20/
CATEGORIES:Fibre Café
ATTACH;FMTTYPE=image/png:https://www.girodepot.com/wp-content/uploads/2026/02/Group-1-1-e1772070646688.png
END:VEVENT
BEGIN:VEVENT
DTSTART;TZID=America/Vancouver:20290127T130000
DTEND;TZID=America/Vancouver:20290127T153000
DTSTAMP:20260421T013423
CREATED:20260219T005449Z
LAST-MODIFIED:20260304T164558Z
UID:10000427-1864213200-1864222200@www.girodepot.com
SUMMARY:Fibre Café - mentor available
DESCRIPTION:Informal drop-in session to work on your project\, make connections\, share ideas. Suggested donation: $5.  \nKim Adam will be available for coaching and mentoring.
URL:https://www.girodepot.com/workshop/fibre-cafe-2/2029-01-27/
CATEGORIES:Fibre Café
ATTACH;FMTTYPE=image/png:https://www.girodepot.com/wp-content/uploads/2026/02/Group-1-1-e1772070646688.png
END:VEVENT
BEGIN:VEVENT
DTSTART;TZID=America/Vancouver:20290203T130000
DTEND;TZID=America/Vancouver:20290203T153000
DTSTAMP:20260421T013423
CREATED:20260219T005449Z
LAST-MODIFIED:20260304T164558Z
UID:10000428-1864818000-1864827000@www.girodepot.com
SUMMARY:Fibre Café - mentor available
DESCRIPTION:Informal drop-in session to work on your project\, make connections\, share ideas. Suggested donation: $5.  \nKim Adam will be available for coaching and mentoring.
URL:https://www.girodepot.com/workshop/fibre-cafe-2/2029-02-03/
CATEGORIES:Fibre Café
ATTACH;FMTTYPE=image/png:https://www.girodepot.com/wp-content/uploads/2026/02/Group-1-1-e1772070646688.png
END:VEVENT
BEGIN:VEVENT
DTSTART;TZID=America/Vancouver:20290210T130000
DTEND;TZID=America/Vancouver:20290210T153000
DTSTAMP:20260421T013423
CREATED:20260219T005449Z
LAST-MODIFIED:20260304T164558Z
UID:10000429-1865422800-1865431800@www.girodepot.com
SUMMARY:Fibre Café - mentor available
DESCRIPTION:Informal drop-in session to work on your project\, make connections\, share ideas. Suggested donation: $5.  \nKim Adam will be available for coaching and mentoring.
URL:https://www.girodepot.com/workshop/fibre-cafe-2/2029-02-10/
CATEGORIES:Fibre Café
ATTACH;FMTTYPE=image/png:https://www.girodepot.com/wp-content/uploads/2026/02/Group-1-1-e1772070646688.png
END:VEVENT
BEGIN:VEVENT
DTSTART;TZID=America/Vancouver:20290217T130000
DTEND;TZID=America/Vancouver:20290217T153000
DTSTAMP:20260421T013423
CREATED:20260219T005449Z
LAST-MODIFIED:20260304T164558Z
UID:10000430-1866027600-1866036600@www.girodepot.com
SUMMARY:Fibre Café - mentor available
DESCRIPTION:Informal drop-in session to work on your project\, make connections\, share ideas. Suggested donation: $5.  \nKim Adam will be available for coaching and mentoring.
URL:https://www.girodepot.com/workshop/fibre-cafe-2/2029-02-17/
CATEGORIES:Fibre Café
ATTACH;FMTTYPE=image/png:https://www.girodepot.com/wp-content/uploads/2026/02/Group-1-1-e1772070646688.png
END:VEVENT
BEGIN:VEVENT
DTSTART;TZID=America/Vancouver:20290224T130000
DTEND;TZID=America/Vancouver:20290224T153000
DTSTAMP:20260421T013423
CREATED:20260219T005449Z
LAST-MODIFIED:20260304T164558Z
UID:10000431-1866632400-1866641400@www.girodepot.com
SUMMARY:Fibre Café - mentor available
DESCRIPTION:Informal drop-in session to work on your project\, make connections\, share ideas. Suggested donation: $5.  \nKim Adam will be available for coaching and mentoring.
URL:https://www.girodepot.com/workshop/fibre-cafe-2/2029-02-24/
CATEGORIES:Fibre Café
ATTACH;FMTTYPE=image/png:https://www.girodepot.com/wp-content/uploads/2026/02/Group-1-1-e1772070646688.png
END:VEVENT
END:VCALENDAR