BEGIN:VCALENDAR
VERSION:2.0
PRODID:-//Gabriola Island Recycling Organization - ECPv6.15.20//NONSGML v1.0//EN
CALSCALE:GREGORIAN
METHOD:PUBLISH
X-ORIGINAL-URL:https://www.girodepot.com
X-WR-CALDESC:Events for Gabriola Island Recycling Organization
REFRESH-INTERVAL;VALUE=DURATION:PT1H
X-Robots-Tag:noindex
X-PUBLISHED-TTL:PT1H
BEGIN:VTIMEZONE
TZID:America/Vancouver
BEGIN:DAYLIGHT
TZOFFSETFROM:-0800
TZOFFSETTO:-0700
TZNAME:PDT
DTSTART:20290311T100000
END:DAYLIGHT
BEGIN:STANDARD
TZOFFSETFROM:-0700
TZOFFSETTO:-0800
TZNAME:PST
DTSTART:20291104T090000
END:STANDARD
BEGIN:DAYLIGHT
TZOFFSETFROM:-0800
TZOFFSETTO:-0700
TZNAME:PDT
DTSTART:20300310T100000
END:DAYLIGHT
BEGIN:STANDARD
TZOFFSETFROM:-0700
TZOFFSETTO:-0800
TZNAME:PST
DTSTART:20301103T090000
END:STANDARD
BEGIN:DAYLIGHT
TZOFFSETFROM:-0800
TZOFFSETTO:-0700
TZNAME:PDT
DTSTART:20310309T100000
END:DAYLIGHT
BEGIN:STANDARD
TZOFFSETFROM:-0700
TZOFFSETTO:-0800
TZNAME:PST
DTSTART:20311102T090000
END:STANDARD
BEGIN:DAYLIGHT
TZOFFSETFROM:-0800
TZOFFSETTO:-0700
TZNAME:PDT
DTSTART:20320314T100000
END:DAYLIGHT
BEGIN:STANDARD
TZOFFSETFROM:-0700
TZOFFSETTO:-0800
TZNAME:PST
DTSTART:20321107T090000
END:STANDARD
END:VTIMEZONE
BEGIN:VEVENT
DTSTART;TZID=America/Vancouver:20301218T130000
DTEND;TZID=America/Vancouver:20301218T153000
DTSTAMP:20260422T070027
CREATED:20260304T024336Z
LAST-MODIFIED:20260304T163732Z
UID:10000265-1923829200-1923838200@www.girodepot.com
SUMMARY:Fibre Café
DESCRIPTION:Informal drop-in session to work on your project\, make connections\, share ideas. Suggested donation: $5.  \n  \n 
URL:https://www.girodepot.com/workshop/fibre-cafe-4/2030-12-18/
CATEGORIES:Fibre Café
ATTACH;FMTTYPE=image/png:https://www.girodepot.com/wp-content/uploads/2026/02/Group-1-1-e1772070646688.png
END:VEVENT
BEGIN:VEVENT
DTSTART;TZID=America/Vancouver:20301221T130000
DTEND;TZID=America/Vancouver:20301221T153000
DTSTAMP:20260422T070027
CREATED:20260219T005449Z
LAST-MODIFIED:20260304T164558Z
UID:10000526-1924088400-1924097400@www.girodepot.com
SUMMARY:Fibre Café - mentor available
DESCRIPTION:Informal drop-in session to work on your project\, make connections\, share ideas. Suggested donation: $5.  \nKim Adam will be available for coaching and mentoring.
URL:https://www.girodepot.com/workshop/fibre-cafe-2/2030-12-21/
CATEGORIES:Fibre Café
ATTACH;FMTTYPE=image/png:https://www.girodepot.com/wp-content/uploads/2026/02/Group-1-1-e1772070646688.png
END:VEVENT
BEGIN:VEVENT
DTSTART;TZID=America/Vancouver:20301225T130000
DTEND;TZID=America/Vancouver:20301225T153000
DTSTAMP:20260422T070027
CREATED:20260304T024336Z
LAST-MODIFIED:20260304T163732Z
UID:10000266-1924434000-1924443000@www.girodepot.com
SUMMARY:Fibre Café
DESCRIPTION:Informal drop-in session to work on your project\, make connections\, share ideas. Suggested donation: $5.  \n  \n 
URL:https://www.girodepot.com/workshop/fibre-cafe-4/2030-12-25/
CATEGORIES:Fibre Café
ATTACH;FMTTYPE=image/png:https://www.girodepot.com/wp-content/uploads/2026/02/Group-1-1-e1772070646688.png
END:VEVENT
BEGIN:VEVENT
DTSTART;TZID=America/Vancouver:20301228T130000
DTEND;TZID=America/Vancouver:20301228T153000
DTSTAMP:20260422T070027
CREATED:20260219T005449Z
LAST-MODIFIED:20260304T164558Z
UID:10000527-1924693200-1924702200@www.girodepot.com
SUMMARY:Fibre Café - mentor available
DESCRIPTION:Informal drop-in session to work on your project\, make connections\, share ideas. Suggested donation: $5.  \nKim Adam will be available for coaching and mentoring.
URL:https://www.girodepot.com/workshop/fibre-cafe-2/2030-12-28/
CATEGORIES:Fibre Café
ATTACH;FMTTYPE=image/png:https://www.girodepot.com/wp-content/uploads/2026/02/Group-1-1-e1772070646688.png
END:VEVENT
BEGIN:VEVENT
DTSTART;TZID=America/Vancouver:20310101T130000
DTEND;TZID=America/Vancouver:20310101T153000
DTSTAMP:20260422T070027
CREATED:20260304T024336Z
LAST-MODIFIED:20260304T163732Z
UID:10000267-1925038800-1925047800@www.girodepot.com
SUMMARY:Fibre Café
DESCRIPTION:Informal drop-in session to work on your project\, make connections\, share ideas. Suggested donation: $5.  \n  \n 
URL:https://www.girodepot.com/workshop/fibre-cafe-4/2031-01-01/
CATEGORIES:Fibre Café
ATTACH;FMTTYPE=image/png:https://www.girodepot.com/wp-content/uploads/2026/02/Group-1-1-e1772070646688.png
END:VEVENT
BEGIN:VEVENT
DTSTART;TZID=America/Vancouver:20310104T130000
DTEND;TZID=America/Vancouver:20310104T153000
DTSTAMP:20260422T070027
CREATED:20260219T005449Z
LAST-MODIFIED:20260304T164558Z
UID:10000528-1925298000-1925307000@www.girodepot.com
SUMMARY:Fibre Café - mentor available
DESCRIPTION:Informal drop-in session to work on your project\, make connections\, share ideas. Suggested donation: $5.  \nKim Adam will be available for coaching and mentoring.
URL:https://www.girodepot.com/workshop/fibre-cafe-2/2031-01-04/
CATEGORIES:Fibre Café
ATTACH;FMTTYPE=image/png:https://www.girodepot.com/wp-content/uploads/2026/02/Group-1-1-e1772070646688.png
END:VEVENT
BEGIN:VEVENT
DTSTART;TZID=America/Vancouver:20310108T130000
DTEND;TZID=America/Vancouver:20310108T153000
DTSTAMP:20260422T070027
CREATED:20260304T024336Z
LAST-MODIFIED:20260304T163732Z
UID:10000268-1925643600-1925652600@www.girodepot.com
SUMMARY:Fibre Café
DESCRIPTION:Informal drop-in session to work on your project\, make connections\, share ideas. Suggested donation: $5.  \n  \n 
URL:https://www.girodepot.com/workshop/fibre-cafe-4/2031-01-08/
CATEGORIES:Fibre Café
ATTACH;FMTTYPE=image/png:https://www.girodepot.com/wp-content/uploads/2026/02/Group-1-1-e1772070646688.png
END:VEVENT
BEGIN:VEVENT
DTSTART;TZID=America/Vancouver:20310111T130000
DTEND;TZID=America/Vancouver:20310111T153000
DTSTAMP:20260422T070027
CREATED:20260219T005449Z
LAST-MODIFIED:20260304T164558Z
UID:10000529-1925902800-1925911800@www.girodepot.com
SUMMARY:Fibre Café - mentor available
DESCRIPTION:Informal drop-in session to work on your project\, make connections\, share ideas. Suggested donation: $5.  \nKim Adam will be available for coaching and mentoring.
URL:https://www.girodepot.com/workshop/fibre-cafe-2/2031-01-11/
CATEGORIES:Fibre Café
ATTACH;FMTTYPE=image/png:https://www.girodepot.com/wp-content/uploads/2026/02/Group-1-1-e1772070646688.png
END:VEVENT
BEGIN:VEVENT
DTSTART;TZID=America/Vancouver:20310115T130000
DTEND;TZID=America/Vancouver:20310115T153000
DTSTAMP:20260422T070027
CREATED:20260304T024336Z
LAST-MODIFIED:20260304T163732Z
UID:10000269-1926248400-1926257400@www.girodepot.com
SUMMARY:Fibre Café
DESCRIPTION:Informal drop-in session to work on your project\, make connections\, share ideas. Suggested donation: $5.  \n  \n 
URL:https://www.girodepot.com/workshop/fibre-cafe-4/2031-01-15/
CATEGORIES:Fibre Café
ATTACH;FMTTYPE=image/png:https://www.girodepot.com/wp-content/uploads/2026/02/Group-1-1-e1772070646688.png
END:VEVENT
BEGIN:VEVENT
DTSTART;TZID=America/Vancouver:20310118T130000
DTEND;TZID=America/Vancouver:20310118T153000
DTSTAMP:20260422T070027
CREATED:20260219T005449Z
LAST-MODIFIED:20260304T164558Z
UID:10000530-1926507600-1926516600@www.girodepot.com
SUMMARY:Fibre Café - mentor available
DESCRIPTION:Informal drop-in session to work on your project\, make connections\, share ideas. Suggested donation: $5.  \nKim Adam will be available for coaching and mentoring.
URL:https://www.girodepot.com/workshop/fibre-cafe-2/2031-01-18/
CATEGORIES:Fibre Café
ATTACH;FMTTYPE=image/png:https://www.girodepot.com/wp-content/uploads/2026/02/Group-1-1-e1772070646688.png
END:VEVENT
BEGIN:VEVENT
DTSTART;TZID=America/Vancouver:20310122T130000
DTEND;TZID=America/Vancouver:20310122T153000
DTSTAMP:20260422T070027
CREATED:20260304T024336Z
LAST-MODIFIED:20260304T163732Z
UID:10000270-1926853200-1926862200@www.girodepot.com
SUMMARY:Fibre Café
DESCRIPTION:Informal drop-in session to work on your project\, make connections\, share ideas. Suggested donation: $5.  \n  \n 
URL:https://www.girodepot.com/workshop/fibre-cafe-4/2031-01-22/
CATEGORIES:Fibre Café
ATTACH;FMTTYPE=image/png:https://www.girodepot.com/wp-content/uploads/2026/02/Group-1-1-e1772070646688.png
END:VEVENT
BEGIN:VEVENT
DTSTART;TZID=America/Vancouver:20310125T130000
DTEND;TZID=America/Vancouver:20310125T153000
DTSTAMP:20260422T070027
CREATED:20260219T005449Z
LAST-MODIFIED:20260304T164558Z
UID:10000531-1927112400-1927121400@www.girodepot.com
SUMMARY:Fibre Café - mentor available
DESCRIPTION:Informal drop-in session to work on your project\, make connections\, share ideas. Suggested donation: $5.  \nKim Adam will be available for coaching and mentoring.
URL:https://www.girodepot.com/workshop/fibre-cafe-2/2031-01-25/
CATEGORIES:Fibre Café
ATTACH;FMTTYPE=image/png:https://www.girodepot.com/wp-content/uploads/2026/02/Group-1-1-e1772070646688.png
END:VEVENT
BEGIN:VEVENT
DTSTART;TZID=America/Vancouver:20310129T130000
DTEND;TZID=America/Vancouver:20310129T153000
DTSTAMP:20260422T070027
CREATED:20260304T024336Z
LAST-MODIFIED:20260304T163732Z
UID:10000271-1927458000-1927467000@www.girodepot.com
SUMMARY:Fibre Café
DESCRIPTION:Informal drop-in session to work on your project\, make connections\, share ideas. Suggested donation: $5.  \n  \n 
URL:https://www.girodepot.com/workshop/fibre-cafe-4/2031-01-29/
CATEGORIES:Fibre Café
ATTACH;FMTTYPE=image/png:https://www.girodepot.com/wp-content/uploads/2026/02/Group-1-1-e1772070646688.png
END:VEVENT
BEGIN:VEVENT
DTSTART;TZID=America/Vancouver:20310201T130000
DTEND;TZID=America/Vancouver:20310201T153000
DTSTAMP:20260422T070027
CREATED:20260219T005449Z
LAST-MODIFIED:20260304T164558Z
UID:10000532-1927717200-1927726200@www.girodepot.com
SUMMARY:Fibre Café - mentor available
DESCRIPTION:Informal drop-in session to work on your project\, make connections\, share ideas. Suggested donation: $5.  \nKim Adam will be available for coaching and mentoring.
URL:https://www.girodepot.com/workshop/fibre-cafe-2/2031-02-01/
CATEGORIES:Fibre Café
ATTACH;FMTTYPE=image/png:https://www.girodepot.com/wp-content/uploads/2026/02/Group-1-1-e1772070646688.png
END:VEVENT
BEGIN:VEVENT
DTSTART;TZID=America/Vancouver:20310205T130000
DTEND;TZID=America/Vancouver:20310205T153000
DTSTAMP:20260422T070027
CREATED:20260304T024336Z
LAST-MODIFIED:20260304T163732Z
UID:10000272-1928062800-1928071800@www.girodepot.com
SUMMARY:Fibre Café
DESCRIPTION:Informal drop-in session to work on your project\, make connections\, share ideas. Suggested donation: $5.  \n  \n 
URL:https://www.girodepot.com/workshop/fibre-cafe-4/2031-02-05/
CATEGORIES:Fibre Café
ATTACH;FMTTYPE=image/png:https://www.girodepot.com/wp-content/uploads/2026/02/Group-1-1-e1772070646688.png
END:VEVENT
BEGIN:VEVENT
DTSTART;TZID=America/Vancouver:20310208T130000
DTEND;TZID=America/Vancouver:20310208T153000
DTSTAMP:20260422T070027
CREATED:20260219T005449Z
LAST-MODIFIED:20260304T164558Z
UID:10000533-1928322000-1928331000@www.girodepot.com
SUMMARY:Fibre Café - mentor available
DESCRIPTION:Informal drop-in session to work on your project\, make connections\, share ideas. Suggested donation: $5.  \nKim Adam will be available for coaching and mentoring.
URL:https://www.girodepot.com/workshop/fibre-cafe-2/2031-02-08/
CATEGORIES:Fibre Café
ATTACH;FMTTYPE=image/png:https://www.girodepot.com/wp-content/uploads/2026/02/Group-1-1-e1772070646688.png
END:VEVENT
BEGIN:VEVENT
DTSTART;TZID=America/Vancouver:20310212T130000
DTEND;TZID=America/Vancouver:20310212T153000
DTSTAMP:20260422T070027
CREATED:20260304T024336Z
LAST-MODIFIED:20260304T163732Z
UID:10000273-1928667600-1928676600@www.girodepot.com
SUMMARY:Fibre Café
DESCRIPTION:Informal drop-in session to work on your project\, make connections\, share ideas. Suggested donation: $5.  \n  \n 
URL:https://www.girodepot.com/workshop/fibre-cafe-4/2031-02-12/
CATEGORIES:Fibre Café
ATTACH;FMTTYPE=image/png:https://www.girodepot.com/wp-content/uploads/2026/02/Group-1-1-e1772070646688.png
END:VEVENT
BEGIN:VEVENT
DTSTART;TZID=America/Vancouver:20310215T130000
DTEND;TZID=America/Vancouver:20310215T153000
DTSTAMP:20260422T070027
CREATED:20260219T005449Z
LAST-MODIFIED:20260304T164558Z
UID:10000534-1928926800-1928935800@www.girodepot.com
SUMMARY:Fibre Café - mentor available
DESCRIPTION:Informal drop-in session to work on your project\, make connections\, share ideas. Suggested donation: $5.  \nKim Adam will be available for coaching and mentoring.
URL:https://www.girodepot.com/workshop/fibre-cafe-2/2031-02-15/
CATEGORIES:Fibre Café
ATTACH;FMTTYPE=image/png:https://www.girodepot.com/wp-content/uploads/2026/02/Group-1-1-e1772070646688.png
END:VEVENT
BEGIN:VEVENT
DTSTART;TZID=America/Vancouver:20310219T130000
DTEND;TZID=America/Vancouver:20310219T153000
DTSTAMP:20260422T070027
CREATED:20260304T024336Z
LAST-MODIFIED:20260304T163732Z
UID:10000535-1929272400-1929281400@www.girodepot.com
SUMMARY:Fibre Café
DESCRIPTION:Informal drop-in session to work on your project\, make connections\, share ideas. Suggested donation: $5.  \n  \n 
URL:https://www.girodepot.com/workshop/fibre-cafe-4/2031-02-19/
CATEGORIES:Fibre Café
ATTACH;FMTTYPE=image/png:https://www.girodepot.com/wp-content/uploads/2026/02/Group-1-1-e1772070646688.png
END:VEVENT
BEGIN:VEVENT
DTSTART;TZID=America/Vancouver:20310222T130000
DTEND;TZID=America/Vancouver:20310222T153000
DTSTAMP:20260422T070027
CREATED:20260219T005449Z
LAST-MODIFIED:20260304T164558Z
UID:10000536-1929531600-1929540600@www.girodepot.com
SUMMARY:Fibre Café - mentor available
DESCRIPTION:Informal drop-in session to work on your project\, make connections\, share ideas. Suggested donation: $5.  \nKim Adam will be available for coaching and mentoring.
URL:https://www.girodepot.com/workshop/fibre-cafe-2/2031-02-22/
CATEGORIES:Fibre Café
ATTACH;FMTTYPE=image/png:https://www.girodepot.com/wp-content/uploads/2026/02/Group-1-1-e1772070646688.png
END:VEVENT
BEGIN:VEVENT
DTSTART;TZID=America/Vancouver:20310226T130000
DTEND;TZID=America/Vancouver:20310226T153000
DTSTAMP:20260422T070027
CREATED:20260304T024336Z
LAST-MODIFIED:20260304T163732Z
UID:10000537-1929877200-1929886200@www.girodepot.com
SUMMARY:Fibre Café
DESCRIPTION:Informal drop-in session to work on your project\, make connections\, share ideas. Suggested donation: $5.  \n  \n 
URL:https://www.girodepot.com/workshop/fibre-cafe-4/2031-02-26/
CATEGORIES:Fibre Café
ATTACH;FMTTYPE=image/png:https://www.girodepot.com/wp-content/uploads/2026/02/Group-1-1-e1772070646688.png
END:VEVENT
BEGIN:VEVENT
DTSTART;TZID=America/Vancouver:20310301T130000
DTEND;TZID=America/Vancouver:20310301T153000
DTSTAMP:20260422T070027
CREATED:20260219T005449Z
LAST-MODIFIED:20260304T164558Z
UID:10000538-1930136400-1930145400@www.girodepot.com
SUMMARY:Fibre Café - mentor available
DESCRIPTION:Informal drop-in session to work on your project\, make connections\, share ideas. Suggested donation: $5.  \nKim Adam will be available for coaching and mentoring.
URL:https://www.girodepot.com/workshop/fibre-cafe-2/2031-03-01/
CATEGORIES:Fibre Café
ATTACH;FMTTYPE=image/png:https://www.girodepot.com/wp-content/uploads/2026/02/Group-1-1-e1772070646688.png
END:VEVENT
BEGIN:VEVENT
DTSTART;TZID=America/Vancouver:20310305T130000
DTEND;TZID=America/Vancouver:20310305T153000
DTSTAMP:20260422T070027
CREATED:20260304T024336Z
LAST-MODIFIED:20260304T163732Z
UID:10000539-1930482000-1930491000@www.girodepot.com
SUMMARY:Fibre Café
DESCRIPTION:Informal drop-in session to work on your project\, make connections\, share ideas. Suggested donation: $5.  \n  \n 
URL:https://www.girodepot.com/workshop/fibre-cafe-4/2031-03-05/
CATEGORIES:Fibre Café
ATTACH;FMTTYPE=image/png:https://www.girodepot.com/wp-content/uploads/2026/02/Group-1-1-e1772070646688.png
END:VEVENT
END:VCALENDAR