BEGIN:VCALENDAR
VERSION:2.0
PRODID:-//Gabriola Island Recycling Organization - ECPv6.15.20//NONSGML v1.0//EN
CALSCALE:GREGORIAN
METHOD:PUBLISH
X-ORIGINAL-URL:https://www.girodepot.com
X-WR-CALDESC:Events for Gabriola Island Recycling Organization
REFRESH-INTERVAL;VALUE=DURATION:PT1H
X-Robots-Tag:noindex
X-PUBLISHED-TTL:PT1H
BEGIN:VTIMEZONE
TZID:America/Vancouver
BEGIN:DAYLIGHT
TZOFFSETFROM:-0800
TZOFFSETTO:-0700
TZNAME:PDT
DTSTART:20290311T100000
END:DAYLIGHT
BEGIN:STANDARD
TZOFFSETFROM:-0700
TZOFFSETTO:-0800
TZNAME:PST
DTSTART:20291104T090000
END:STANDARD
BEGIN:DAYLIGHT
TZOFFSETFROM:-0800
TZOFFSETTO:-0700
TZNAME:PDT
DTSTART:20300310T100000
END:DAYLIGHT
BEGIN:STANDARD
TZOFFSETFROM:-0700
TZOFFSETTO:-0800
TZNAME:PST
DTSTART:20301103T090000
END:STANDARD
BEGIN:DAYLIGHT
TZOFFSETFROM:-0800
TZOFFSETTO:-0700
TZNAME:PDT
DTSTART:20310309T100000
END:DAYLIGHT
BEGIN:STANDARD
TZOFFSETFROM:-0700
TZOFFSETTO:-0800
TZNAME:PST
DTSTART:20311102T090000
END:STANDARD
END:VTIMEZONE
BEGIN:VEVENT
DTSTART;TZID=America/Vancouver:20300626T130000
DTEND;TZID=America/Vancouver:20300626T153000
DTSTAMP:20260420T055834
CREATED:20260304T024336Z
LAST-MODIFIED:20260304T163732Z
UID:10000240-1908709200-1908718200@www.girodepot.com
SUMMARY:Fibre Café
DESCRIPTION:Informal drop-in session to work on your project\, make connections\, share ideas. Suggested donation: $5.  \n  \n 
URL:https://www.girodepot.com/workshop/fibre-cafe-4/2030-06-26/
CATEGORIES:Fibre Café
ATTACH;FMTTYPE=image/png:https://www.girodepot.com/wp-content/uploads/2026/02/Group-1-1-e1772070646688.png
END:VEVENT
BEGIN:VEVENT
DTSTART;TZID=America/Vancouver:20300629T130000
DTEND;TZID=America/Vancouver:20300629T153000
DTSTAMP:20260420T055834
CREATED:20260219T005449Z
LAST-MODIFIED:20260304T164558Z
UID:10000501-1908968400-1908977400@www.girodepot.com
SUMMARY:Fibre Café - mentor available
DESCRIPTION:Informal drop-in session to work on your project\, make connections\, share ideas. Suggested donation: $5.  \nKim Adam will be available for coaching and mentoring.
URL:https://www.girodepot.com/workshop/fibre-cafe-2/2030-06-29/
CATEGORIES:Fibre Café
ATTACH;FMTTYPE=image/png:https://www.girodepot.com/wp-content/uploads/2026/02/Group-1-1-e1772070646688.png
END:VEVENT
BEGIN:VEVENT
DTSTART;TZID=America/Vancouver:20300703T130000
DTEND;TZID=America/Vancouver:20300703T153000
DTSTAMP:20260420T055834
CREATED:20260304T024336Z
LAST-MODIFIED:20260304T163732Z
UID:10000241-1909314000-1909323000@www.girodepot.com
SUMMARY:Fibre Café
DESCRIPTION:Informal drop-in session to work on your project\, make connections\, share ideas. Suggested donation: $5.  \n  \n 
URL:https://www.girodepot.com/workshop/fibre-cafe-4/2030-07-03/
CATEGORIES:Fibre Café
ATTACH;FMTTYPE=image/png:https://www.girodepot.com/wp-content/uploads/2026/02/Group-1-1-e1772070646688.png
END:VEVENT
BEGIN:VEVENT
DTSTART;TZID=America/Vancouver:20300706T130000
DTEND;TZID=America/Vancouver:20300706T153000
DTSTAMP:20260420T055834
CREATED:20260219T005449Z
LAST-MODIFIED:20260304T164558Z
UID:10000502-1909573200-1909582200@www.girodepot.com
SUMMARY:Fibre Café - mentor available
DESCRIPTION:Informal drop-in session to work on your project\, make connections\, share ideas. Suggested donation: $5.  \nKim Adam will be available for coaching and mentoring.
URL:https://www.girodepot.com/workshop/fibre-cafe-2/2030-07-06/
CATEGORIES:Fibre Café
ATTACH;FMTTYPE=image/png:https://www.girodepot.com/wp-content/uploads/2026/02/Group-1-1-e1772070646688.png
END:VEVENT
BEGIN:VEVENT
DTSTART;TZID=America/Vancouver:20300710T130000
DTEND;TZID=America/Vancouver:20300710T153000
DTSTAMP:20260420T055834
CREATED:20260304T024336Z
LAST-MODIFIED:20260304T163732Z
UID:10000242-1909918800-1909927800@www.girodepot.com
SUMMARY:Fibre Café
DESCRIPTION:Informal drop-in session to work on your project\, make connections\, share ideas. Suggested donation: $5.  \n  \n 
URL:https://www.girodepot.com/workshop/fibre-cafe-4/2030-07-10/
CATEGORIES:Fibre Café
ATTACH;FMTTYPE=image/png:https://www.girodepot.com/wp-content/uploads/2026/02/Group-1-1-e1772070646688.png
END:VEVENT
BEGIN:VEVENT
DTSTART;TZID=America/Vancouver:20300713T130000
DTEND;TZID=America/Vancouver:20300713T153000
DTSTAMP:20260420T055834
CREATED:20260219T005449Z
LAST-MODIFIED:20260304T164558Z
UID:10000503-1910178000-1910187000@www.girodepot.com
SUMMARY:Fibre Café - mentor available
DESCRIPTION:Informal drop-in session to work on your project\, make connections\, share ideas. Suggested donation: $5.  \nKim Adam will be available for coaching and mentoring.
URL:https://www.girodepot.com/workshop/fibre-cafe-2/2030-07-13/
CATEGORIES:Fibre Café
ATTACH;FMTTYPE=image/png:https://www.girodepot.com/wp-content/uploads/2026/02/Group-1-1-e1772070646688.png
END:VEVENT
BEGIN:VEVENT
DTSTART;TZID=America/Vancouver:20300717T130000
DTEND;TZID=America/Vancouver:20300717T153000
DTSTAMP:20260420T055834
CREATED:20260304T024336Z
LAST-MODIFIED:20260304T163732Z
UID:10000243-1910523600-1910532600@www.girodepot.com
SUMMARY:Fibre Café
DESCRIPTION:Informal drop-in session to work on your project\, make connections\, share ideas. Suggested donation: $5.  \n  \n 
URL:https://www.girodepot.com/workshop/fibre-cafe-4/2030-07-17/
CATEGORIES:Fibre Café
ATTACH;FMTTYPE=image/png:https://www.girodepot.com/wp-content/uploads/2026/02/Group-1-1-e1772070646688.png
END:VEVENT
BEGIN:VEVENT
DTSTART;TZID=America/Vancouver:20300720T130000
DTEND;TZID=America/Vancouver:20300720T153000
DTSTAMP:20260420T055834
CREATED:20260219T005449Z
LAST-MODIFIED:20260304T164558Z
UID:10000504-1910782800-1910791800@www.girodepot.com
SUMMARY:Fibre Café - mentor available
DESCRIPTION:Informal drop-in session to work on your project\, make connections\, share ideas. Suggested donation: $5.  \nKim Adam will be available for coaching and mentoring.
URL:https://www.girodepot.com/workshop/fibre-cafe-2/2030-07-20/
CATEGORIES:Fibre Café
ATTACH;FMTTYPE=image/png:https://www.girodepot.com/wp-content/uploads/2026/02/Group-1-1-e1772070646688.png
END:VEVENT
BEGIN:VEVENT
DTSTART;TZID=America/Vancouver:20300724T130000
DTEND;TZID=America/Vancouver:20300724T153000
DTSTAMP:20260420T055834
CREATED:20260304T024336Z
LAST-MODIFIED:20260304T163732Z
UID:10000244-1911128400-1911137400@www.girodepot.com
SUMMARY:Fibre Café
DESCRIPTION:Informal drop-in session to work on your project\, make connections\, share ideas. Suggested donation: $5.  \n  \n 
URL:https://www.girodepot.com/workshop/fibre-cafe-4/2030-07-24/
CATEGORIES:Fibre Café
ATTACH;FMTTYPE=image/png:https://www.girodepot.com/wp-content/uploads/2026/02/Group-1-1-e1772070646688.png
END:VEVENT
BEGIN:VEVENT
DTSTART;TZID=America/Vancouver:20300727T130000
DTEND;TZID=America/Vancouver:20300727T153000
DTSTAMP:20260420T055834
CREATED:20260219T005449Z
LAST-MODIFIED:20260304T164558Z
UID:10000505-1911387600-1911396600@www.girodepot.com
SUMMARY:Fibre Café - mentor available
DESCRIPTION:Informal drop-in session to work on your project\, make connections\, share ideas. Suggested donation: $5.  \nKim Adam will be available for coaching and mentoring.
URL:https://www.girodepot.com/workshop/fibre-cafe-2/2030-07-27/
CATEGORIES:Fibre Café
ATTACH;FMTTYPE=image/png:https://www.girodepot.com/wp-content/uploads/2026/02/Group-1-1-e1772070646688.png
END:VEVENT
BEGIN:VEVENT
DTSTART;TZID=America/Vancouver:20300731T130000
DTEND;TZID=America/Vancouver:20300731T153000
DTSTAMP:20260420T055834
CREATED:20260304T024336Z
LAST-MODIFIED:20260304T163732Z
UID:10000245-1911733200-1911742200@www.girodepot.com
SUMMARY:Fibre Café
DESCRIPTION:Informal drop-in session to work on your project\, make connections\, share ideas. Suggested donation: $5.  \n  \n 
URL:https://www.girodepot.com/workshop/fibre-cafe-4/2030-07-31/
CATEGORIES:Fibre Café
ATTACH;FMTTYPE=image/png:https://www.girodepot.com/wp-content/uploads/2026/02/Group-1-1-e1772070646688.png
END:VEVENT
BEGIN:VEVENT
DTSTART;TZID=America/Vancouver:20300803T130000
DTEND;TZID=America/Vancouver:20300803T153000
DTSTAMP:20260420T055834
CREATED:20260219T005449Z
LAST-MODIFIED:20260304T164558Z
UID:10000506-1911992400-1912001400@www.girodepot.com
SUMMARY:Fibre Café - mentor available
DESCRIPTION:Informal drop-in session to work on your project\, make connections\, share ideas. Suggested donation: $5.  \nKim Adam will be available for coaching and mentoring.
URL:https://www.girodepot.com/workshop/fibre-cafe-2/2030-08-03/
CATEGORIES:Fibre Café
ATTACH;FMTTYPE=image/png:https://www.girodepot.com/wp-content/uploads/2026/02/Group-1-1-e1772070646688.png
END:VEVENT
BEGIN:VEVENT
DTSTART;TZID=America/Vancouver:20300807T130000
DTEND;TZID=America/Vancouver:20300807T153000
DTSTAMP:20260420T055834
CREATED:20260304T024336Z
LAST-MODIFIED:20260304T163732Z
UID:10000246-1912338000-1912347000@www.girodepot.com
SUMMARY:Fibre Café
DESCRIPTION:Informal drop-in session to work on your project\, make connections\, share ideas. Suggested donation: $5.  \n  \n 
URL:https://www.girodepot.com/workshop/fibre-cafe-4/2030-08-07/
CATEGORIES:Fibre Café
ATTACH;FMTTYPE=image/png:https://www.girodepot.com/wp-content/uploads/2026/02/Group-1-1-e1772070646688.png
END:VEVENT
BEGIN:VEVENT
DTSTART;TZID=America/Vancouver:20300810T130000
DTEND;TZID=America/Vancouver:20300810T153000
DTSTAMP:20260420T055834
CREATED:20260219T005449Z
LAST-MODIFIED:20260304T164558Z
UID:10000507-1912597200-1912606200@www.girodepot.com
SUMMARY:Fibre Café - mentor available
DESCRIPTION:Informal drop-in session to work on your project\, make connections\, share ideas. Suggested donation: $5.  \nKim Adam will be available for coaching and mentoring.
URL:https://www.girodepot.com/workshop/fibre-cafe-2/2030-08-10/
CATEGORIES:Fibre Café
ATTACH;FMTTYPE=image/png:https://www.girodepot.com/wp-content/uploads/2026/02/Group-1-1-e1772070646688.png
END:VEVENT
BEGIN:VEVENT
DTSTART;TZID=America/Vancouver:20300814T130000
DTEND;TZID=America/Vancouver:20300814T153000
DTSTAMP:20260420T055834
CREATED:20260304T024336Z
LAST-MODIFIED:20260304T163732Z
UID:10000247-1912942800-1912951800@www.girodepot.com
SUMMARY:Fibre Café
DESCRIPTION:Informal drop-in session to work on your project\, make connections\, share ideas. Suggested donation: $5.  \n  \n 
URL:https://www.girodepot.com/workshop/fibre-cafe-4/2030-08-14/
CATEGORIES:Fibre Café
ATTACH;FMTTYPE=image/png:https://www.girodepot.com/wp-content/uploads/2026/02/Group-1-1-e1772070646688.png
END:VEVENT
BEGIN:VEVENT
DTSTART;TZID=America/Vancouver:20300817T130000
DTEND;TZID=America/Vancouver:20300817T153000
DTSTAMP:20260420T055834
CREATED:20260219T005449Z
LAST-MODIFIED:20260304T164558Z
UID:10000508-1913202000-1913211000@www.girodepot.com
SUMMARY:Fibre Café - mentor available
DESCRIPTION:Informal drop-in session to work on your project\, make connections\, share ideas. Suggested donation: $5.  \nKim Adam will be available for coaching and mentoring.
URL:https://www.girodepot.com/workshop/fibre-cafe-2/2030-08-17/
CATEGORIES:Fibre Café
ATTACH;FMTTYPE=image/png:https://www.girodepot.com/wp-content/uploads/2026/02/Group-1-1-e1772070646688.png
END:VEVENT
BEGIN:VEVENT
DTSTART;TZID=America/Vancouver:20300821T130000
DTEND;TZID=America/Vancouver:20300821T153000
DTSTAMP:20260420T055834
CREATED:20260304T024336Z
LAST-MODIFIED:20260304T163732Z
UID:10000248-1913547600-1913556600@www.girodepot.com
SUMMARY:Fibre Café
DESCRIPTION:Informal drop-in session to work on your project\, make connections\, share ideas. Suggested donation: $5.  \n  \n 
URL:https://www.girodepot.com/workshop/fibre-cafe-4/2030-08-21/
CATEGORIES:Fibre Café
ATTACH;FMTTYPE=image/png:https://www.girodepot.com/wp-content/uploads/2026/02/Group-1-1-e1772070646688.png
END:VEVENT
BEGIN:VEVENT
DTSTART;TZID=America/Vancouver:20300824T130000
DTEND;TZID=America/Vancouver:20300824T153000
DTSTAMP:20260420T055834
CREATED:20260219T005449Z
LAST-MODIFIED:20260304T164558Z
UID:10000509-1913806800-1913815800@www.girodepot.com
SUMMARY:Fibre Café - mentor available
DESCRIPTION:Informal drop-in session to work on your project\, make connections\, share ideas. Suggested donation: $5.  \nKim Adam will be available for coaching and mentoring.
URL:https://www.girodepot.com/workshop/fibre-cafe-2/2030-08-24/
CATEGORIES:Fibre Café
ATTACH;FMTTYPE=image/png:https://www.girodepot.com/wp-content/uploads/2026/02/Group-1-1-e1772070646688.png
END:VEVENT
BEGIN:VEVENT
DTSTART;TZID=America/Vancouver:20300828T130000
DTEND;TZID=America/Vancouver:20300828T153000
DTSTAMP:20260420T055834
CREATED:20260304T024336Z
LAST-MODIFIED:20260304T163732Z
UID:10000249-1914152400-1914161400@www.girodepot.com
SUMMARY:Fibre Café
DESCRIPTION:Informal drop-in session to work on your project\, make connections\, share ideas. Suggested donation: $5.  \n  \n 
URL:https://www.girodepot.com/workshop/fibre-cafe-4/2030-08-28/
CATEGORIES:Fibre Café
ATTACH;FMTTYPE=image/png:https://www.girodepot.com/wp-content/uploads/2026/02/Group-1-1-e1772070646688.png
END:VEVENT
BEGIN:VEVENT
DTSTART;TZID=America/Vancouver:20300831T130000
DTEND;TZID=America/Vancouver:20300831T153000
DTSTAMP:20260420T055834
CREATED:20260219T005449Z
LAST-MODIFIED:20260304T164558Z
UID:10000510-1914411600-1914420600@www.girodepot.com
SUMMARY:Fibre Café - mentor available
DESCRIPTION:Informal drop-in session to work on your project\, make connections\, share ideas. Suggested donation: $5.  \nKim Adam will be available for coaching and mentoring.
URL:https://www.girodepot.com/workshop/fibre-cafe-2/2030-08-31/
CATEGORIES:Fibre Café
ATTACH;FMTTYPE=image/png:https://www.girodepot.com/wp-content/uploads/2026/02/Group-1-1-e1772070646688.png
END:VEVENT
BEGIN:VEVENT
DTSTART;TZID=America/Vancouver:20300904T130000
DTEND;TZID=America/Vancouver:20300904T153000
DTSTAMP:20260420T055834
CREATED:20260304T024336Z
LAST-MODIFIED:20260304T163732Z
UID:10000250-1914757200-1914766200@www.girodepot.com
SUMMARY:Fibre Café
DESCRIPTION:Informal drop-in session to work on your project\, make connections\, share ideas. Suggested donation: $5.  \n  \n 
URL:https://www.girodepot.com/workshop/fibre-cafe-4/2030-09-04/
CATEGORIES:Fibre Café
ATTACH;FMTTYPE=image/png:https://www.girodepot.com/wp-content/uploads/2026/02/Group-1-1-e1772070646688.png
END:VEVENT
BEGIN:VEVENT
DTSTART;TZID=America/Vancouver:20300907T130000
DTEND;TZID=America/Vancouver:20300907T153000
DTSTAMP:20260420T055834
CREATED:20260219T005449Z
LAST-MODIFIED:20260304T164558Z
UID:10000511-1915016400-1915025400@www.girodepot.com
SUMMARY:Fibre Café - mentor available
DESCRIPTION:Informal drop-in session to work on your project\, make connections\, share ideas. Suggested donation: $5.  \nKim Adam will be available for coaching and mentoring.
URL:https://www.girodepot.com/workshop/fibre-cafe-2/2030-09-07/
CATEGORIES:Fibre Café
ATTACH;FMTTYPE=image/png:https://www.girodepot.com/wp-content/uploads/2026/02/Group-1-1-e1772070646688.png
END:VEVENT
BEGIN:VEVENT
DTSTART;TZID=America/Vancouver:20300911T130000
DTEND;TZID=America/Vancouver:20300911T153000
DTSTAMP:20260420T055834
CREATED:20260304T024336Z
LAST-MODIFIED:20260304T163732Z
UID:10000251-1915362000-1915371000@www.girodepot.com
SUMMARY:Fibre Café
DESCRIPTION:Informal drop-in session to work on your project\, make connections\, share ideas. Suggested donation: $5.  \n  \n 
URL:https://www.girodepot.com/workshop/fibre-cafe-4/2030-09-11/
CATEGORIES:Fibre Café
ATTACH;FMTTYPE=image/png:https://www.girodepot.com/wp-content/uploads/2026/02/Group-1-1-e1772070646688.png
END:VEVENT
BEGIN:VEVENT
DTSTART;TZID=America/Vancouver:20300914T130000
DTEND;TZID=America/Vancouver:20300914T153000
DTSTAMP:20260420T055834
CREATED:20260219T005449Z
LAST-MODIFIED:20260304T164558Z
UID:10000512-1915621200-1915630200@www.girodepot.com
SUMMARY:Fibre Café - mentor available
DESCRIPTION:Informal drop-in session to work on your project\, make connections\, share ideas. Suggested donation: $5.  \nKim Adam will be available for coaching and mentoring.
URL:https://www.girodepot.com/workshop/fibre-cafe-2/2030-09-14/
CATEGORIES:Fibre Café
ATTACH;FMTTYPE=image/png:https://www.girodepot.com/wp-content/uploads/2026/02/Group-1-1-e1772070646688.png
END:VEVENT
BEGIN:VEVENT
DTSTART;TZID=America/Vancouver:20300918T130000
DTEND;TZID=America/Vancouver:20300918T153000
DTSTAMP:20260420T055834
CREATED:20260304T024336Z
LAST-MODIFIED:20260304T163732Z
UID:10000252-1915966800-1915975800@www.girodepot.com
SUMMARY:Fibre Café
DESCRIPTION:Informal drop-in session to work on your project\, make connections\, share ideas. Suggested donation: $5.  \n  \n 
URL:https://www.girodepot.com/workshop/fibre-cafe-4/2030-09-18/
CATEGORIES:Fibre Café
ATTACH;FMTTYPE=image/png:https://www.girodepot.com/wp-content/uploads/2026/02/Group-1-1-e1772070646688.png
END:VEVENT
BEGIN:VEVENT
DTSTART;TZID=America/Vancouver:20300921T130000
DTEND;TZID=America/Vancouver:20300921T153000
DTSTAMP:20260420T055834
CREATED:20260219T005449Z
LAST-MODIFIED:20260304T164558Z
UID:10000513-1916226000-1916235000@www.girodepot.com
SUMMARY:Fibre Café - mentor available
DESCRIPTION:Informal drop-in session to work on your project\, make connections\, share ideas. Suggested donation: $5.  \nKim Adam will be available for coaching and mentoring.
URL:https://www.girodepot.com/workshop/fibre-cafe-2/2030-09-21/
CATEGORIES:Fibre Café
ATTACH;FMTTYPE=image/png:https://www.girodepot.com/wp-content/uploads/2026/02/Group-1-1-e1772070646688.png
END:VEVENT
BEGIN:VEVENT
DTSTART;TZID=America/Vancouver:20300925T130000
DTEND;TZID=America/Vancouver:20300925T153000
DTSTAMP:20260420T055834
CREATED:20260304T024336Z
LAST-MODIFIED:20260304T163732Z
UID:10000253-1916571600-1916580600@www.girodepot.com
SUMMARY:Fibre Café
DESCRIPTION:Informal drop-in session to work on your project\, make connections\, share ideas. Suggested donation: $5.  \n  \n 
URL:https://www.girodepot.com/workshop/fibre-cafe-4/2030-09-25/
CATEGORIES:Fibre Café
ATTACH;FMTTYPE=image/png:https://www.girodepot.com/wp-content/uploads/2026/02/Group-1-1-e1772070646688.png
END:VEVENT
BEGIN:VEVENT
DTSTART;TZID=America/Vancouver:20300928T130000
DTEND;TZID=America/Vancouver:20300928T153000
DTSTAMP:20260420T055834
CREATED:20260219T005449Z
LAST-MODIFIED:20260304T164558Z
UID:10000514-1916830800-1916839800@www.girodepot.com
SUMMARY:Fibre Café - mentor available
DESCRIPTION:Informal drop-in session to work on your project\, make connections\, share ideas. Suggested donation: $5.  \nKim Adam will be available for coaching and mentoring.
URL:https://www.girodepot.com/workshop/fibre-cafe-2/2030-09-28/
CATEGORIES:Fibre Café
ATTACH;FMTTYPE=image/png:https://www.girodepot.com/wp-content/uploads/2026/02/Group-1-1-e1772070646688.png
END:VEVENT
BEGIN:VEVENT
DTSTART;TZID=America/Vancouver:20301002T130000
DTEND;TZID=America/Vancouver:20301002T153000
DTSTAMP:20260420T055834
CREATED:20260304T024336Z
LAST-MODIFIED:20260304T163732Z
UID:10000254-1917176400-1917185400@www.girodepot.com
SUMMARY:Fibre Café
DESCRIPTION:Informal drop-in session to work on your project\, make connections\, share ideas. Suggested donation: $5.  \n  \n 
URL:https://www.girodepot.com/workshop/fibre-cafe-4/2030-10-02/
CATEGORIES:Fibre Café
ATTACH;FMTTYPE=image/png:https://www.girodepot.com/wp-content/uploads/2026/02/Group-1-1-e1772070646688.png
END:VEVENT
BEGIN:VEVENT
DTSTART;TZID=America/Vancouver:20301005T130000
DTEND;TZID=America/Vancouver:20301005T153000
DTSTAMP:20260420T055834
CREATED:20260219T005449Z
LAST-MODIFIED:20260304T164558Z
UID:10000515-1917435600-1917444600@www.girodepot.com
SUMMARY:Fibre Café - mentor available
DESCRIPTION:Informal drop-in session to work on your project\, make connections\, share ideas. Suggested donation: $5.  \nKim Adam will be available for coaching and mentoring.
URL:https://www.girodepot.com/workshop/fibre-cafe-2/2030-10-05/
CATEGORIES:Fibre Café
ATTACH;FMTTYPE=image/png:https://www.girodepot.com/wp-content/uploads/2026/02/Group-1-1-e1772070646688.png
END:VEVENT
END:VCALENDAR