BEGIN:VCALENDAR
VERSION:2.0
PRODID:-//Gabriola Island Recycling Organization - ECPv6.15.20//NONSGML v1.0//EN
CALSCALE:GREGORIAN
METHOD:PUBLISH
X-WR-CALNAME:Gabriola Island Recycling Organization
X-ORIGINAL-URL:https://www.girodepot.com
X-WR-CALDESC:Events for Gabriola Island Recycling Organization
REFRESH-INTERVAL;VALUE=DURATION:PT1H
X-Robots-Tag:noindex
X-PUBLISHED-TTL:PT1H
BEGIN:VTIMEZONE
TZID:America/Vancouver
BEGIN:DAYLIGHT
TZOFFSETFROM:-0800
TZOFFSETTO:-0700
TZNAME:PDT
DTSTART:20260308T100000
END:DAYLIGHT
BEGIN:STANDARD
TZOFFSETFROM:-0700
TZOFFSETTO:-0800
TZNAME:PST
DTSTART:20261101T090000
END:STANDARD
BEGIN:DAYLIGHT
TZOFFSETFROM:-0800
TZOFFSETTO:-0700
TZNAME:PDT
DTSTART:20270314T100000
END:DAYLIGHT
BEGIN:STANDARD
TZOFFSETFROM:-0700
TZOFFSETTO:-0800
TZNAME:PST
DTSTART:20271107T090000
END:STANDARD
BEGIN:DAYLIGHT
TZOFFSETFROM:-0800
TZOFFSETTO:-0700
TZNAME:PDT
DTSTART:20280312T100000
END:DAYLIGHT
BEGIN:STANDARD
TZOFFSETFROM:-0700
TZOFFSETTO:-0800
TZNAME:PST
DTSTART:20281105T090000
END:STANDARD
END:VTIMEZONE
BEGIN:VEVENT
DTSTART;TZID=America/Vancouver:20270327T130000
DTEND;TZID=America/Vancouver:20270327T153000
DTSTAMP:20260424T084909
CREATED:20260219T005449Z
LAST-MODIFIED:20260304T164558Z
UID:10000331-1806152400-1806161400@www.girodepot.com
SUMMARY:Fibre Café - mentor available
DESCRIPTION:Informal drop-in session to work on your project\, make connections\, share ideas. Suggested donation: $5.  \nKim Adam will be available for coaching and mentoring.
URL:https://www.girodepot.com/workshop/fibre-cafe-2/2027-03-27/
CATEGORIES:Fibre Café
ATTACH;FMTTYPE=image/png:https://www.girodepot.com/wp-content/uploads/2026/02/Group-1-1-e1772070646688.png
END:VEVENT
BEGIN:VEVENT
DTSTART;TZID=America/Vancouver:20270331T130000
DTEND;TZID=America/Vancouver:20270331T153000
DTSTAMP:20260424T084909
CREATED:20260304T024336Z
LAST-MODIFIED:20260304T163732Z
UID:10000071-1806498000-1806507000@www.girodepot.com
SUMMARY:Fibre Café
DESCRIPTION:Informal drop-in session to work on your project\, make connections\, share ideas. Suggested donation: $5.  \n  \n 
URL:https://www.girodepot.com/workshop/fibre-cafe-4/2027-03-31/
CATEGORIES:Fibre Café
ATTACH;FMTTYPE=image/png:https://www.girodepot.com/wp-content/uploads/2026/02/Group-1-1-e1772070646688.png
END:VEVENT
BEGIN:VEVENT
DTSTART;TZID=America/Vancouver:20270403T130000
DTEND;TZID=America/Vancouver:20270403T153000
DTSTAMP:20260424T084909
CREATED:20260219T005449Z
LAST-MODIFIED:20260304T164558Z
UID:10000332-1806757200-1806766200@www.girodepot.com
SUMMARY:Fibre Café - mentor available
DESCRIPTION:Informal drop-in session to work on your project\, make connections\, share ideas. Suggested donation: $5.  \nKim Adam will be available for coaching and mentoring.
URL:https://www.girodepot.com/workshop/fibre-cafe-2/2027-04-03/
CATEGORIES:Fibre Café
ATTACH;FMTTYPE=image/png:https://www.girodepot.com/wp-content/uploads/2026/02/Group-1-1-e1772070646688.png
END:VEVENT
BEGIN:VEVENT
DTSTART;TZID=America/Vancouver:20270407T130000
DTEND;TZID=America/Vancouver:20270407T153000
DTSTAMP:20260424T084909
CREATED:20260304T024336Z
LAST-MODIFIED:20260304T163732Z
UID:10000072-1807102800-1807111800@www.girodepot.com
SUMMARY:Fibre Café
DESCRIPTION:Informal drop-in session to work on your project\, make connections\, share ideas. Suggested donation: $5.  \n  \n 
URL:https://www.girodepot.com/workshop/fibre-cafe-4/2027-04-07/
CATEGORIES:Fibre Café
ATTACH;FMTTYPE=image/png:https://www.girodepot.com/wp-content/uploads/2026/02/Group-1-1-e1772070646688.png
END:VEVENT
BEGIN:VEVENT
DTSTART;TZID=America/Vancouver:20270410T130000
DTEND;TZID=America/Vancouver:20270410T153000
DTSTAMP:20260424T084909
CREATED:20260219T005449Z
LAST-MODIFIED:20260304T164558Z
UID:10000333-1807362000-1807371000@www.girodepot.com
SUMMARY:Fibre Café - mentor available
DESCRIPTION:Informal drop-in session to work on your project\, make connections\, share ideas. Suggested donation: $5.  \nKim Adam will be available for coaching and mentoring.
URL:https://www.girodepot.com/workshop/fibre-cafe-2/2027-04-10/
CATEGORIES:Fibre Café
ATTACH;FMTTYPE=image/png:https://www.girodepot.com/wp-content/uploads/2026/02/Group-1-1-e1772070646688.png
END:VEVENT
BEGIN:VEVENT
DTSTART;TZID=America/Vancouver:20270414T130000
DTEND;TZID=America/Vancouver:20270414T153000
DTSTAMP:20260424T084909
CREATED:20260304T024336Z
LAST-MODIFIED:20260304T163732Z
UID:10000073-1807707600-1807716600@www.girodepot.com
SUMMARY:Fibre Café
DESCRIPTION:Informal drop-in session to work on your project\, make connections\, share ideas. Suggested donation: $5.  \n  \n 
URL:https://www.girodepot.com/workshop/fibre-cafe-4/2027-04-14/
CATEGORIES:Fibre Café
ATTACH;FMTTYPE=image/png:https://www.girodepot.com/wp-content/uploads/2026/02/Group-1-1-e1772070646688.png
END:VEVENT
BEGIN:VEVENT
DTSTART;TZID=America/Vancouver:20270417T130000
DTEND;TZID=America/Vancouver:20270417T153000
DTSTAMP:20260424T084909
CREATED:20260219T005449Z
LAST-MODIFIED:20260304T164558Z
UID:10000334-1807966800-1807975800@www.girodepot.com
SUMMARY:Fibre Café - mentor available
DESCRIPTION:Informal drop-in session to work on your project\, make connections\, share ideas. Suggested donation: $5.  \nKim Adam will be available for coaching and mentoring.
URL:https://www.girodepot.com/workshop/fibre-cafe-2/2027-04-17/
CATEGORIES:Fibre Café
ATTACH;FMTTYPE=image/png:https://www.girodepot.com/wp-content/uploads/2026/02/Group-1-1-e1772070646688.png
END:VEVENT
BEGIN:VEVENT
DTSTART;TZID=America/Vancouver:20270421T130000
DTEND;TZID=America/Vancouver:20270421T153000
DTSTAMP:20260424T084909
CREATED:20260304T024336Z
LAST-MODIFIED:20260304T163732Z
UID:10000074-1808312400-1808321400@www.girodepot.com
SUMMARY:Fibre Café
DESCRIPTION:Informal drop-in session to work on your project\, make connections\, share ideas. Suggested donation: $5.  \n  \n 
URL:https://www.girodepot.com/workshop/fibre-cafe-4/2027-04-21/
CATEGORIES:Fibre Café
ATTACH;FMTTYPE=image/png:https://www.girodepot.com/wp-content/uploads/2026/02/Group-1-1-e1772070646688.png
END:VEVENT
BEGIN:VEVENT
DTSTART;TZID=America/Vancouver:20270424T130000
DTEND;TZID=America/Vancouver:20270424T153000
DTSTAMP:20260424T084909
CREATED:20260219T005449Z
LAST-MODIFIED:20260304T164558Z
UID:10000335-1808571600-1808580600@www.girodepot.com
SUMMARY:Fibre Café - mentor available
DESCRIPTION:Informal drop-in session to work on your project\, make connections\, share ideas. Suggested donation: $5.  \nKim Adam will be available for coaching and mentoring.
URL:https://www.girodepot.com/workshop/fibre-cafe-2/2027-04-24/
CATEGORIES:Fibre Café
ATTACH;FMTTYPE=image/png:https://www.girodepot.com/wp-content/uploads/2026/02/Group-1-1-e1772070646688.png
END:VEVENT
BEGIN:VEVENT
DTSTART;TZID=America/Vancouver:20270428T130000
DTEND;TZID=America/Vancouver:20270428T153000
DTSTAMP:20260424T084909
CREATED:20260304T024336Z
LAST-MODIFIED:20260304T163732Z
UID:10000075-1808917200-1808926200@www.girodepot.com
SUMMARY:Fibre Café
DESCRIPTION:Informal drop-in session to work on your project\, make connections\, share ideas. Suggested donation: $5.  \n  \n 
URL:https://www.girodepot.com/workshop/fibre-cafe-4/2027-04-28/
CATEGORIES:Fibre Café
ATTACH;FMTTYPE=image/png:https://www.girodepot.com/wp-content/uploads/2026/02/Group-1-1-e1772070646688.png
END:VEVENT
BEGIN:VEVENT
DTSTART;TZID=America/Vancouver:20270501T130000
DTEND;TZID=America/Vancouver:20270501T153000
DTSTAMP:20260424T084909
CREATED:20260219T005449Z
LAST-MODIFIED:20260304T164558Z
UID:10000336-1809176400-1809185400@www.girodepot.com
SUMMARY:Fibre Café - mentor available
DESCRIPTION:Informal drop-in session to work on your project\, make connections\, share ideas. Suggested donation: $5.  \nKim Adam will be available for coaching and mentoring.
URL:https://www.girodepot.com/workshop/fibre-cafe-2/2027-05-01/
CATEGORIES:Fibre Café
ATTACH;FMTTYPE=image/png:https://www.girodepot.com/wp-content/uploads/2026/02/Group-1-1-e1772070646688.png
END:VEVENT
BEGIN:VEVENT
DTSTART;TZID=America/Vancouver:20270505T130000
DTEND;TZID=America/Vancouver:20270505T153000
DTSTAMP:20260424T084909
CREATED:20260304T024336Z
LAST-MODIFIED:20260304T163732Z
UID:10000076-1809522000-1809531000@www.girodepot.com
SUMMARY:Fibre Café
DESCRIPTION:Informal drop-in session to work on your project\, make connections\, share ideas. Suggested donation: $5.  \n  \n 
URL:https://www.girodepot.com/workshop/fibre-cafe-4/2027-05-05/
CATEGORIES:Fibre Café
ATTACH;FMTTYPE=image/png:https://www.girodepot.com/wp-content/uploads/2026/02/Group-1-1-e1772070646688.png
END:VEVENT
BEGIN:VEVENT
DTSTART;TZID=America/Vancouver:20270508T130000
DTEND;TZID=America/Vancouver:20270508T153000
DTSTAMP:20260424T084909
CREATED:20260219T005449Z
LAST-MODIFIED:20260304T164558Z
UID:10000337-1809781200-1809790200@www.girodepot.com
SUMMARY:Fibre Café - mentor available
DESCRIPTION:Informal drop-in session to work on your project\, make connections\, share ideas. Suggested donation: $5.  \nKim Adam will be available for coaching and mentoring.
URL:https://www.girodepot.com/workshop/fibre-cafe-2/2027-05-08/
CATEGORIES:Fibre Café
ATTACH;FMTTYPE=image/png:https://www.girodepot.com/wp-content/uploads/2026/02/Group-1-1-e1772070646688.png
END:VEVENT
BEGIN:VEVENT
DTSTART;TZID=America/Vancouver:20270512T130000
DTEND;TZID=America/Vancouver:20270512T153000
DTSTAMP:20260424T084909
CREATED:20260304T024336Z
LAST-MODIFIED:20260304T163732Z
UID:10000077-1810126800-1810135800@www.girodepot.com
SUMMARY:Fibre Café
DESCRIPTION:Informal drop-in session to work on your project\, make connections\, share ideas. Suggested donation: $5.  \n  \n 
URL:https://www.girodepot.com/workshop/fibre-cafe-4/2027-05-12/
CATEGORIES:Fibre Café
ATTACH;FMTTYPE=image/png:https://www.girodepot.com/wp-content/uploads/2026/02/Group-1-1-e1772070646688.png
END:VEVENT
BEGIN:VEVENT
DTSTART;TZID=America/Vancouver:20270515T130000
DTEND;TZID=America/Vancouver:20270515T153000
DTSTAMP:20260424T084909
CREATED:20260219T005449Z
LAST-MODIFIED:20260304T164558Z
UID:10000338-1810386000-1810395000@www.girodepot.com
SUMMARY:Fibre Café - mentor available
DESCRIPTION:Informal drop-in session to work on your project\, make connections\, share ideas. Suggested donation: $5.  \nKim Adam will be available for coaching and mentoring.
URL:https://www.girodepot.com/workshop/fibre-cafe-2/2027-05-15/
CATEGORIES:Fibre Café
ATTACH;FMTTYPE=image/png:https://www.girodepot.com/wp-content/uploads/2026/02/Group-1-1-e1772070646688.png
END:VEVENT
BEGIN:VEVENT
DTSTART;TZID=America/Vancouver:20270519T130000
DTEND;TZID=America/Vancouver:20270519T153000
DTSTAMP:20260424T084909
CREATED:20260304T024336Z
LAST-MODIFIED:20260304T163732Z
UID:10000078-1810731600-1810740600@www.girodepot.com
SUMMARY:Fibre Café
DESCRIPTION:Informal drop-in session to work on your project\, make connections\, share ideas. Suggested donation: $5.  \n  \n 
URL:https://www.girodepot.com/workshop/fibre-cafe-4/2027-05-19/
CATEGORIES:Fibre Café
ATTACH;FMTTYPE=image/png:https://www.girodepot.com/wp-content/uploads/2026/02/Group-1-1-e1772070646688.png
END:VEVENT
BEGIN:VEVENT
DTSTART;TZID=America/Vancouver:20270522T130000
DTEND;TZID=America/Vancouver:20270522T153000
DTSTAMP:20260424T084909
CREATED:20260219T005449Z
LAST-MODIFIED:20260304T164558Z
UID:10000339-1810990800-1810999800@www.girodepot.com
SUMMARY:Fibre Café - mentor available
DESCRIPTION:Informal drop-in session to work on your project\, make connections\, share ideas. Suggested donation: $5.  \nKim Adam will be available for coaching and mentoring.
URL:https://www.girodepot.com/workshop/fibre-cafe-2/2027-05-22/
CATEGORIES:Fibre Café
ATTACH;FMTTYPE=image/png:https://www.girodepot.com/wp-content/uploads/2026/02/Group-1-1-e1772070646688.png
END:VEVENT
BEGIN:VEVENT
DTSTART;TZID=America/Vancouver:20270526T130000
DTEND;TZID=America/Vancouver:20270526T153000
DTSTAMP:20260424T084909
CREATED:20260304T024336Z
LAST-MODIFIED:20260304T163732Z
UID:10000079-1811336400-1811345400@www.girodepot.com
SUMMARY:Fibre Café
DESCRIPTION:Informal drop-in session to work on your project\, make connections\, share ideas. Suggested donation: $5.  \n  \n 
URL:https://www.girodepot.com/workshop/fibre-cafe-4/2027-05-26/
CATEGORIES:Fibre Café
ATTACH;FMTTYPE=image/png:https://www.girodepot.com/wp-content/uploads/2026/02/Group-1-1-e1772070646688.png
END:VEVENT
BEGIN:VEVENT
DTSTART;TZID=America/Vancouver:20270529T130000
DTEND;TZID=America/Vancouver:20270529T153000
DTSTAMP:20260424T084909
CREATED:20260219T005449Z
LAST-MODIFIED:20260304T164558Z
UID:10000340-1811595600-1811604600@www.girodepot.com
SUMMARY:Fibre Café - mentor available
DESCRIPTION:Informal drop-in session to work on your project\, make connections\, share ideas. Suggested donation: $5.  \nKim Adam will be available for coaching and mentoring.
URL:https://www.girodepot.com/workshop/fibre-cafe-2/2027-05-29/
CATEGORIES:Fibre Café
ATTACH;FMTTYPE=image/png:https://www.girodepot.com/wp-content/uploads/2026/02/Group-1-1-e1772070646688.png
END:VEVENT
BEGIN:VEVENT
DTSTART;TZID=America/Vancouver:20270602T130000
DTEND;TZID=America/Vancouver:20270602T153000
DTSTAMP:20260424T084909
CREATED:20260304T024336Z
LAST-MODIFIED:20260304T163732Z
UID:10000080-1811941200-1811950200@www.girodepot.com
SUMMARY:Fibre Café
DESCRIPTION:Informal drop-in session to work on your project\, make connections\, share ideas. Suggested donation: $5.  \n  \n 
URL:https://www.girodepot.com/workshop/fibre-cafe-4/2027-06-02/
CATEGORIES:Fibre Café
ATTACH;FMTTYPE=image/png:https://www.girodepot.com/wp-content/uploads/2026/02/Group-1-1-e1772070646688.png
END:VEVENT
BEGIN:VEVENT
DTSTART;TZID=America/Vancouver:20270605T130000
DTEND;TZID=America/Vancouver:20270605T153000
DTSTAMP:20260424T084909
CREATED:20260219T005449Z
LAST-MODIFIED:20260304T164558Z
UID:10000341-1812200400-1812209400@www.girodepot.com
SUMMARY:Fibre Café - mentor available
DESCRIPTION:Informal drop-in session to work on your project\, make connections\, share ideas. Suggested donation: $5.  \nKim Adam will be available for coaching and mentoring.
URL:https://www.girodepot.com/workshop/fibre-cafe-2/2027-06-05/
CATEGORIES:Fibre Café
ATTACH;FMTTYPE=image/png:https://www.girodepot.com/wp-content/uploads/2026/02/Group-1-1-e1772070646688.png
END:VEVENT
BEGIN:VEVENT
DTSTART;TZID=America/Vancouver:20270609T130000
DTEND;TZID=America/Vancouver:20270609T153000
DTSTAMP:20260424T084909
CREATED:20260304T024336Z
LAST-MODIFIED:20260304T163732Z
UID:10000081-1812546000-1812555000@www.girodepot.com
SUMMARY:Fibre Café
DESCRIPTION:Informal drop-in session to work on your project\, make connections\, share ideas. Suggested donation: $5.  \n  \n 
URL:https://www.girodepot.com/workshop/fibre-cafe-4/2027-06-09/
CATEGORIES:Fibre Café
ATTACH;FMTTYPE=image/png:https://www.girodepot.com/wp-content/uploads/2026/02/Group-1-1-e1772070646688.png
END:VEVENT
BEGIN:VEVENT
DTSTART;TZID=America/Vancouver:20270612T130000
DTEND;TZID=America/Vancouver:20270612T153000
DTSTAMP:20260424T084909
CREATED:20260219T005449Z
LAST-MODIFIED:20260304T164558Z
UID:10000342-1812805200-1812814200@www.girodepot.com
SUMMARY:Fibre Café - mentor available
DESCRIPTION:Informal drop-in session to work on your project\, make connections\, share ideas. Suggested donation: $5.  \nKim Adam will be available for coaching and mentoring.
URL:https://www.girodepot.com/workshop/fibre-cafe-2/2027-06-12/
CATEGORIES:Fibre Café
ATTACH;FMTTYPE=image/png:https://www.girodepot.com/wp-content/uploads/2026/02/Group-1-1-e1772070646688.png
END:VEVENT
BEGIN:VEVENT
DTSTART;TZID=America/Vancouver:20270616T130000
DTEND;TZID=America/Vancouver:20270616T153000
DTSTAMP:20260424T084909
CREATED:20260304T024336Z
LAST-MODIFIED:20260304T163732Z
UID:10000082-1813150800-1813159800@www.girodepot.com
SUMMARY:Fibre Café
DESCRIPTION:Informal drop-in session to work on your project\, make connections\, share ideas. Suggested donation: $5.  \n  \n 
URL:https://www.girodepot.com/workshop/fibre-cafe-4/2027-06-16/
CATEGORIES:Fibre Café
ATTACH;FMTTYPE=image/png:https://www.girodepot.com/wp-content/uploads/2026/02/Group-1-1-e1772070646688.png
END:VEVENT
BEGIN:VEVENT
DTSTART;TZID=America/Vancouver:20270619T130000
DTEND;TZID=America/Vancouver:20270619T153000
DTSTAMP:20260424T084909
CREATED:20260219T005449Z
LAST-MODIFIED:20260304T164558Z
UID:10000343-1813410000-1813419000@www.girodepot.com
SUMMARY:Fibre Café - mentor available
DESCRIPTION:Informal drop-in session to work on your project\, make connections\, share ideas. Suggested donation: $5.  \nKim Adam will be available for coaching and mentoring.
URL:https://www.girodepot.com/workshop/fibre-cafe-2/2027-06-19/
CATEGORIES:Fibre Café
ATTACH;FMTTYPE=image/png:https://www.girodepot.com/wp-content/uploads/2026/02/Group-1-1-e1772070646688.png
END:VEVENT
BEGIN:VEVENT
DTSTART;TZID=America/Vancouver:20270623T130000
DTEND;TZID=America/Vancouver:20270623T153000
DTSTAMP:20260424T084909
CREATED:20260304T024336Z
LAST-MODIFIED:20260304T163732Z
UID:10000083-1813755600-1813764600@www.girodepot.com
SUMMARY:Fibre Café
DESCRIPTION:Informal drop-in session to work on your project\, make connections\, share ideas. Suggested donation: $5.  \n  \n 
URL:https://www.girodepot.com/workshop/fibre-cafe-4/2027-06-23/
CATEGORIES:Fibre Café
ATTACH;FMTTYPE=image/png:https://www.girodepot.com/wp-content/uploads/2026/02/Group-1-1-e1772070646688.png
END:VEVENT
BEGIN:VEVENT
DTSTART;TZID=America/Vancouver:20270626T130000
DTEND;TZID=America/Vancouver:20270626T153000
DTSTAMP:20260424T084909
CREATED:20260219T005449Z
LAST-MODIFIED:20260304T164558Z
UID:10000344-1814014800-1814023800@www.girodepot.com
SUMMARY:Fibre Café - mentor available
DESCRIPTION:Informal drop-in session to work on your project\, make connections\, share ideas. Suggested donation: $5.  \nKim Adam will be available for coaching and mentoring.
URL:https://www.girodepot.com/workshop/fibre-cafe-2/2027-06-26/
CATEGORIES:Fibre Café
ATTACH;FMTTYPE=image/png:https://www.girodepot.com/wp-content/uploads/2026/02/Group-1-1-e1772070646688.png
END:VEVENT
BEGIN:VEVENT
DTSTART;TZID=America/Vancouver:20270630T130000
DTEND;TZID=America/Vancouver:20270630T153000
DTSTAMP:20260424T084909
CREATED:20260304T024336Z
LAST-MODIFIED:20260304T163732Z
UID:10000084-1814360400-1814369400@www.girodepot.com
SUMMARY:Fibre Café
DESCRIPTION:Informal drop-in session to work on your project\, make connections\, share ideas. Suggested donation: $5.  \n  \n 
URL:https://www.girodepot.com/workshop/fibre-cafe-4/2027-06-30/
CATEGORIES:Fibre Café
ATTACH;FMTTYPE=image/png:https://www.girodepot.com/wp-content/uploads/2026/02/Group-1-1-e1772070646688.png
END:VEVENT
BEGIN:VEVENT
DTSTART;TZID=America/Vancouver:20270703T130000
DTEND;TZID=America/Vancouver:20270703T153000
DTSTAMP:20260424T084909
CREATED:20260219T005449Z
LAST-MODIFIED:20260304T164558Z
UID:10000345-1814619600-1814628600@www.girodepot.com
SUMMARY:Fibre Café - mentor available
DESCRIPTION:Informal drop-in session to work on your project\, make connections\, share ideas. Suggested donation: $5.  \nKim Adam will be available for coaching and mentoring.
URL:https://www.girodepot.com/workshop/fibre-cafe-2/2027-07-03/
CATEGORIES:Fibre Café
ATTACH;FMTTYPE=image/png:https://www.girodepot.com/wp-content/uploads/2026/02/Group-1-1-e1772070646688.png
END:VEVENT
BEGIN:VEVENT
DTSTART;TZID=America/Vancouver:20270707T130000
DTEND;TZID=America/Vancouver:20270707T153000
DTSTAMP:20260424T084909
CREATED:20260304T024336Z
LAST-MODIFIED:20260304T163732Z
UID:10000085-1814965200-1814974200@www.girodepot.com
SUMMARY:Fibre Café
DESCRIPTION:Informal drop-in session to work on your project\, make connections\, share ideas. Suggested donation: $5.  \n  \n 
URL:https://www.girodepot.com/workshop/fibre-cafe-4/2027-07-07/
CATEGORIES:Fibre Café
ATTACH;FMTTYPE=image/png:https://www.girodepot.com/wp-content/uploads/2026/02/Group-1-1-e1772070646688.png
END:VEVENT
END:VCALENDAR