BEGIN:VCALENDAR
VERSION:2.0
PRODID:-//Gabriola Island Recycling Organization - ECPv6.15.20//NONSGML v1.0//EN
CALSCALE:GREGORIAN
METHOD:PUBLISH
X-WR-CALNAME:Gabriola Island Recycling Organization
X-ORIGINAL-URL:https://www.girodepot.com
X-WR-CALDESC:Events for Gabriola Island Recycling Organization
REFRESH-INTERVAL;VALUE=DURATION:PT1H
X-Robots-Tag:noindex
X-PUBLISHED-TTL:PT1H
BEGIN:VTIMEZONE
TZID:America/Vancouver
BEGIN:DAYLIGHT
TZOFFSETFROM:-0800
TZOFFSETTO:-0700
TZNAME:PDT
DTSTART:20250309T100000
END:DAYLIGHT
BEGIN:STANDARD
TZOFFSETFROM:-0700
TZOFFSETTO:-0800
TZNAME:PST
DTSTART:20251102T090000
END:STANDARD
BEGIN:DAYLIGHT
TZOFFSETFROM:-0800
TZOFFSETTO:-0700
TZNAME:PDT
DTSTART:20260308T100000
END:DAYLIGHT
BEGIN:STANDARD
TZOFFSETFROM:-0700
TZOFFSETTO:-0800
TZNAME:PST
DTSTART:20261101T090000
END:STANDARD
BEGIN:DAYLIGHT
TZOFFSETFROM:-0800
TZOFFSETTO:-0700
TZNAME:PDT
DTSTART:20270314T100000
END:DAYLIGHT
BEGIN:STANDARD
TZOFFSETFROM:-0700
TZOFFSETTO:-0800
TZNAME:PST
DTSTART:20271107T090000
END:STANDARD
END:VTIMEZONE
BEGIN:VEVENT
DTSTART;TZID=America/Vancouver:20260321T130000
DTEND;TZID=America/Vancouver:20260321T153000
DTSTAMP:20260420T061334
CREATED:20260219T005449Z
LAST-MODIFIED:20260304T164558Z
UID:10000278-1774098000-1774107000@www.girodepot.com
SUMMARY:Fibre Café - mentor available
DESCRIPTION:Informal drop-in session to work on your project\, make connections\, share ideas. Suggested donation: $5.  \nKim Adam will be available for coaching and mentoring.
URL:https://www.girodepot.com/workshop/fibre-cafe-2/2026-03-21/
CATEGORIES:Fibre Café
ATTACH;FMTTYPE=image/png:https://www.girodepot.com/wp-content/uploads/2026/02/Group-1-1-e1772070646688.png
END:VEVENT
BEGIN:VEVENT
DTSTART;TZID=America/Vancouver:20260318T130000
DTEND;TZID=America/Vancouver:20260318T153000
DTSTAMP:20260420T061334
CREATED:20260304T024815Z
LAST-MODIFIED:20260304T164208Z
UID:10000017-1773838800-1773847800@www.girodepot.com
SUMMARY:Fibre Café - rug hooking mentor
DESCRIPTION:Informal drop-in session to work on your project\, make connections\, share ideas. Suggested donation: $5. \nGill Elcock will be available for rug hooking coaching and mentoring. \n  \n 
URL:https://www.girodepot.com/workshop/fibre-cafe-4-2/
CATEGORIES:Fibre Café
ATTACH;FMTTYPE=image/png:https://www.girodepot.com/wp-content/uploads/2026/02/Group-1-1-e1772070646688.png
END:VEVENT
BEGIN:VEVENT
DTSTART;TZID=America/Vancouver:20260314T130000
DTEND;TZID=America/Vancouver:20260314T153000
DTSTAMP:20260420T061334
CREATED:20260219T005449Z
LAST-MODIFIED:20260304T164558Z
UID:10000277-1773493200-1773502200@www.girodepot.com
SUMMARY:Fibre Café - mentor available
DESCRIPTION:Informal drop-in session to work on your project\, make connections\, share ideas. Suggested donation: $5.  \nKim Adam will be available for coaching and mentoring.
URL:https://www.girodepot.com/workshop/fibre-cafe-2/2026-03-14/
CATEGORIES:Fibre Café
ATTACH;FMTTYPE=image/png:https://www.girodepot.com/wp-content/uploads/2026/02/Group-1-1-e1772070646688.png
END:VEVENT
BEGIN:VEVENT
DTSTART;TZID=America/Vancouver:20260314T093000
DTEND;TZID=America/Vancouver:20260314T120000
DTSTAMP:20260420T061334
CREATED:20260123T163809Z
LAST-MODIFIED:20260226T201422Z
UID:10000010-1773480600-1773489600@www.girodepot.com
SUMMARY:Bejewelled Brooches
DESCRIPTION:Gather your family’s forgotten treasures to make yourself a memory brooch! Repurpose buttons\, beads\, watchfaces\, chains\, earrings\, old lace\, etc.\, to make brooches at home\, for yourself or for gifts.
URL:https://www.girodepot.com/workshop/bejewelled-brooches/
LOCATION:Private: GIRO Makerspace\, 700 Tin Can Alley\, Gabriola\, British Columbia\, V0R 1X3\, Canada
CATEGORIES:2026 Winter Workshops,Workshops
ATTACH;FMTTYPE=image/png:https://www.girodepot.com/wp-content/uploads/2026/01/brooch.png
END:VEVENT
BEGIN:VEVENT
DTSTART;TZID=America/Vancouver:20260311T130000
DTEND;TZID=America/Vancouver:20260311T153000
DTSTAMP:20260420T061334
CREATED:20260304T024336Z
LAST-MODIFIED:20260304T163732Z
UID:10000016-1773234000-1773243000@www.girodepot.com
SUMMARY:Fibre Café
DESCRIPTION:Informal drop-in session to work on your project\, make connections\, share ideas. Suggested donation: $5.  \n  \n 
URL:https://www.girodepot.com/workshop/fibre-cafe-4/2026-03-11/
CATEGORIES:Fibre Café
ATTACH;FMTTYPE=image/png:https://www.girodepot.com/wp-content/uploads/2026/02/Group-1-1-e1772070646688.png
END:VEVENT
BEGIN:VEVENT
DTSTART;TZID=America/Vancouver:20260307T130000
DTEND;TZID=America/Vancouver:20260307T153000
DTSTAMP:20260420T061334
CREATED:20260219T005449Z
LAST-MODIFIED:20260304T164558Z
UID:10000276-1772888400-1772897400@www.girodepot.com
SUMMARY:Fibre Café - mentor available
DESCRIPTION:Informal drop-in session to work on your project\, make connections\, share ideas. Suggested donation: $5.  \nKim Adam will be available for coaching and mentoring.
URL:https://www.girodepot.com/workshop/fibre-cafe-2/2026-03-07/
CATEGORIES:Fibre Café
ATTACH;FMTTYPE=image/png:https://www.girodepot.com/wp-content/uploads/2026/02/Group-1-1-e1772070646688.png
END:VEVENT
BEGIN:VEVENT
DTSTART;TZID=America/Vancouver:20260304T130000
DTEND;TZID=America/Vancouver:20260304T153000
DTSTAMP:20260420T061334
CREATED:20260303T224423Z
LAST-MODIFIED:20260303T224424Z
UID:10000015-1772629200-1772638200@www.girodepot.com
SUMMARY:Fibre Café
DESCRIPTION:Informal drop-in session to work on your project\, make connections\, share ideas. Suggested donation: $5.  \n  \n 
URL:https://www.girodepot.com/workshop/fibre-cafe-3/
CATEGORIES:Fibre Café
ATTACH;FMTTYPE=image/png:https://www.girodepot.com/wp-content/uploads/2026/02/Group-1-1-e1772070646688.png
END:VEVENT
BEGIN:VEVENT
DTSTART;TZID=America/Vancouver:20260228T130000
DTEND;TZID=America/Vancouver:20260228T153000
DTSTAMP:20260420T061334
CREATED:20260219T005449Z
LAST-MODIFIED:20260304T164558Z
UID:10000275-1772283600-1772292600@www.girodepot.com
SUMMARY:Fibre Café - mentor available
DESCRIPTION:Informal drop-in session to work on your project\, make connections\, share ideas. Suggested donation: $5.  \nKim Adam will be available for coaching and mentoring.
URL:https://www.girodepot.com/workshop/fibre-cafe-2/2026-02-28/
CATEGORIES:Fibre Café
ATTACH;FMTTYPE=image/png:https://www.girodepot.com/wp-content/uploads/2026/02/Group-1-1-e1772070646688.png
END:VEVENT
BEGIN:VEVENT
DTSTART;TZID=America/Vancouver:20260225T130000
DTEND;TZID=America/Vancouver:20260225T153000
DTSTAMP:20260420T061334
CREATED:20260304T024336Z
LAST-MODIFIED:20260304T163732Z
UID:10000014-1772024400-1772033400@www.girodepot.com
SUMMARY:Fibre Café
DESCRIPTION:Informal drop-in session to work on your project\, make connections\, share ideas. Suggested donation: $5.  \n  \n 
URL:https://www.girodepot.com/workshop/fibre-cafe-4/2026-02-25/
CATEGORIES:Fibre Café
ATTACH;FMTTYPE=image/png:https://www.girodepot.com/wp-content/uploads/2026/02/Group-1-1-e1772070646688.png
END:VEVENT
BEGIN:VEVENT
DTSTART;TZID=America/Vancouver:20260221T130000
DTEND;TZID=America/Vancouver:20260221T153000
DTSTAMP:20260420T061334
CREATED:20260219T005449Z
LAST-MODIFIED:20260304T164558Z
UID:10000274-1771678800-1771687800@www.girodepot.com
SUMMARY:Fibre Café - mentor available
DESCRIPTION:Informal drop-in session to work on your project\, make connections\, share ideas. Suggested donation: $5.  \nKim Adam will be available for coaching and mentoring.
URL:https://www.girodepot.com/workshop/fibre-cafe-2/2026-02-21/
CATEGORIES:Fibre Café
ATTACH;FMTTYPE=image/png:https://www.girodepot.com/wp-content/uploads/2026/02/Group-1-1-e1772070646688.png
END:VEVENT
BEGIN:VEVENT
DTSTART;TZID=America/Vancouver:20260218T130000
DTEND;TZID=America/Vancouver:20260218T153000
DTSTAMP:20260420T061334
CREATED:20260219T002220Z
LAST-MODIFIED:20260226T015259Z
UID:10000013-1771419600-1771428600@www.girodepot.com
SUMMARY:Fibre Café
DESCRIPTION:Informal drop-in session to work on your project\, make connections\, share ideas. Suggested donation: $5.  \nGill Elcock will be available for rug hooking coaching and mentoring. \n 
URL:https://www.girodepot.com/workshop/fibre-cafe/
CATEGORIES:Fibre Café
ATTACH;FMTTYPE=image/png:https://www.girodepot.com/wp-content/uploads/2026/02/Group-1-1-e1772070646688.png
END:VEVENT
END:VCALENDAR