BEGIN:VCALENDAR
VERSION:2.0
PRODID:-//Gabriola Island Recycling Organization - ECPv6.15.20//NONSGML v1.0//EN
CALSCALE:GREGORIAN
METHOD:PUBLISH
X-ORIGINAL-URL:https://www.girodepot.com
X-WR-CALDESC:Events for Gabriola Island Recycling Organization
REFRESH-INTERVAL;VALUE=DURATION:PT1H
X-Robots-Tag:noindex
X-PUBLISHED-TTL:PT1H
BEGIN:VTIMEZONE
TZID:America/Vancouver
BEGIN:DAYLIGHT
TZOFFSETFROM:-0800
TZOFFSETTO:-0700
TZNAME:PDT
DTSTART:20250309T100000
END:DAYLIGHT
BEGIN:STANDARD
TZOFFSETFROM:-0700
TZOFFSETTO:-0800
TZNAME:PST
DTSTART:20251102T090000
END:STANDARD
BEGIN:DAYLIGHT
TZOFFSETFROM:-0800
TZOFFSETTO:-0700
TZNAME:PDT
DTSTART:20260308T100000
END:DAYLIGHT
BEGIN:STANDARD
TZOFFSETFROM:-0700
TZOFFSETTO:-0800
TZNAME:PST
DTSTART:20261101T090000
END:STANDARD
BEGIN:DAYLIGHT
TZOFFSETFROM:-0800
TZOFFSETTO:-0700
TZNAME:PDT
DTSTART:20270314T100000
END:DAYLIGHT
BEGIN:STANDARD
TZOFFSETFROM:-0700
TZOFFSETTO:-0800
TZNAME:PST
DTSTART:20271107T090000
END:STANDARD
END:VTIMEZONE
BEGIN:VEVENT
DTSTART;TZID=America/Vancouver:20260527T130000
DTEND;TZID=America/Vancouver:20260527T153000
DTSTAMP:20260422T071501
CREATED:20260304T024336Z
LAST-MODIFIED:20260304T163732Z
UID:10000027-1779886800-1779895800@www.girodepot.com
SUMMARY:Fibre Café
DESCRIPTION:Informal drop-in session to work on your project\, make connections\, share ideas. Suggested donation: $5.  \n  \n 
URL:https://www.girodepot.com/workshop/fibre-cafe-4/2026-05-27/
CATEGORIES:Fibre Café
ATTACH;FMTTYPE=image/png:https://www.girodepot.com/wp-content/uploads/2026/02/Group-1-1-e1772070646688.png
END:VEVENT
BEGIN:VEVENT
DTSTART;TZID=America/Vancouver:20260530T130000
DTEND;TZID=America/Vancouver:20260530T153000
DTSTAMP:20260422T071501
CREATED:20260219T005449Z
LAST-MODIFIED:20260304T164558Z
UID:10000288-1780146000-1780155000@www.girodepot.com
SUMMARY:Fibre Café - mentor available
DESCRIPTION:Informal drop-in session to work on your project\, make connections\, share ideas. Suggested donation: $5.  \nKim Adam will be available for coaching and mentoring.
URL:https://www.girodepot.com/workshop/fibre-cafe-2/2026-05-30/
CATEGORIES:Fibre Café
ATTACH;FMTTYPE=image/png:https://www.girodepot.com/wp-content/uploads/2026/02/Group-1-1-e1772070646688.png
END:VEVENT
BEGIN:VEVENT
DTSTART;TZID=America/Vancouver:20260603T130000
DTEND;TZID=America/Vancouver:20260603T153000
DTSTAMP:20260422T071501
CREATED:20260304T024336Z
LAST-MODIFIED:20260304T163732Z
UID:10000028-1780491600-1780500600@www.girodepot.com
SUMMARY:Fibre Café
DESCRIPTION:Informal drop-in session to work on your project\, make connections\, share ideas. Suggested donation: $5.  \n  \n 
URL:https://www.girodepot.com/workshop/fibre-cafe-4/2026-06-03/
CATEGORIES:Fibre Café
ATTACH;FMTTYPE=image/png:https://www.girodepot.com/wp-content/uploads/2026/02/Group-1-1-e1772070646688.png
END:VEVENT
BEGIN:VEVENT
DTSTART;TZID=America/Vancouver:20260606T130000
DTEND;TZID=America/Vancouver:20260606T153000
DTSTAMP:20260422T071501
CREATED:20260219T005449Z
LAST-MODIFIED:20260304T164558Z
UID:10000289-1780750800-1780759800@www.girodepot.com
SUMMARY:Fibre Café - mentor available
DESCRIPTION:Informal drop-in session to work on your project\, make connections\, share ideas. Suggested donation: $5.  \nKim Adam will be available for coaching and mentoring.
URL:https://www.girodepot.com/workshop/fibre-cafe-2/2026-06-06/
CATEGORIES:Fibre Café
ATTACH;FMTTYPE=image/png:https://www.girodepot.com/wp-content/uploads/2026/02/Group-1-1-e1772070646688.png
END:VEVENT
BEGIN:VEVENT
DTSTART;TZID=America/Vancouver:20260610T130000
DTEND;TZID=America/Vancouver:20260610T153000
DTSTAMP:20260422T071501
CREATED:20260304T024336Z
LAST-MODIFIED:20260304T163732Z
UID:10000029-1781096400-1781105400@www.girodepot.com
SUMMARY:Fibre Café
DESCRIPTION:Informal drop-in session to work on your project\, make connections\, share ideas. Suggested donation: $5.  \n  \n 
URL:https://www.girodepot.com/workshop/fibre-cafe-4/2026-06-10/
CATEGORIES:Fibre Café
ATTACH;FMTTYPE=image/png:https://www.girodepot.com/wp-content/uploads/2026/02/Group-1-1-e1772070646688.png
END:VEVENT
BEGIN:VEVENT
DTSTART;TZID=America/Vancouver:20260613T130000
DTEND;TZID=America/Vancouver:20260613T153000
DTSTAMP:20260422T071501
CREATED:20260219T005449Z
LAST-MODIFIED:20260304T164558Z
UID:10000290-1781355600-1781364600@www.girodepot.com
SUMMARY:Fibre Café - mentor available
DESCRIPTION:Informal drop-in session to work on your project\, make connections\, share ideas. Suggested donation: $5.  \nKim Adam will be available for coaching and mentoring.
URL:https://www.girodepot.com/workshop/fibre-cafe-2/2026-06-13/
CATEGORIES:Fibre Café
ATTACH;FMTTYPE=image/png:https://www.girodepot.com/wp-content/uploads/2026/02/Group-1-1-e1772070646688.png
END:VEVENT
BEGIN:VEVENT
DTSTART;TZID=America/Vancouver:20260617T130000
DTEND;TZID=America/Vancouver:20260617T153000
DTSTAMP:20260422T071501
CREATED:20260304T024336Z
LAST-MODIFIED:20260304T163732Z
UID:10000030-1781701200-1781710200@www.girodepot.com
SUMMARY:Fibre Café
DESCRIPTION:Informal drop-in session to work on your project\, make connections\, share ideas. Suggested donation: $5.  \n  \n 
URL:https://www.girodepot.com/workshop/fibre-cafe-4/2026-06-17/
CATEGORIES:Fibre Café
ATTACH;FMTTYPE=image/png:https://www.girodepot.com/wp-content/uploads/2026/02/Group-1-1-e1772070646688.png
END:VEVENT
BEGIN:VEVENT
DTSTART;TZID=America/Vancouver:20260620T130000
DTEND;TZID=America/Vancouver:20260620T153000
DTSTAMP:20260422T071501
CREATED:20260219T005449Z
LAST-MODIFIED:20260304T164558Z
UID:10000291-1781960400-1781969400@www.girodepot.com
SUMMARY:Fibre Café - mentor available
DESCRIPTION:Informal drop-in session to work on your project\, make connections\, share ideas. Suggested donation: $5.  \nKim Adam will be available for coaching and mentoring.
URL:https://www.girodepot.com/workshop/fibre-cafe-2/2026-06-20/
CATEGORIES:Fibre Café
ATTACH;FMTTYPE=image/png:https://www.girodepot.com/wp-content/uploads/2026/02/Group-1-1-e1772070646688.png
END:VEVENT
BEGIN:VEVENT
DTSTART;TZID=America/Vancouver:20260624T130000
DTEND;TZID=America/Vancouver:20260624T153000
DTSTAMP:20260422T071501
CREATED:20260304T024336Z
LAST-MODIFIED:20260304T163732Z
UID:10000031-1782306000-1782315000@www.girodepot.com
SUMMARY:Fibre Café
DESCRIPTION:Informal drop-in session to work on your project\, make connections\, share ideas. Suggested donation: $5.  \n  \n 
URL:https://www.girodepot.com/workshop/fibre-cafe-4/2026-06-24/
CATEGORIES:Fibre Café
ATTACH;FMTTYPE=image/png:https://www.girodepot.com/wp-content/uploads/2026/02/Group-1-1-e1772070646688.png
END:VEVENT
BEGIN:VEVENT
DTSTART;TZID=America/Vancouver:20260627T130000
DTEND;TZID=America/Vancouver:20260627T153000
DTSTAMP:20260422T071501
CREATED:20260219T005449Z
LAST-MODIFIED:20260304T164558Z
UID:10000292-1782565200-1782574200@www.girodepot.com
SUMMARY:Fibre Café - mentor available
DESCRIPTION:Informal drop-in session to work on your project\, make connections\, share ideas. Suggested donation: $5.  \nKim Adam will be available for coaching and mentoring.
URL:https://www.girodepot.com/workshop/fibre-cafe-2/2026-06-27/
CATEGORIES:Fibre Café
ATTACH;FMTTYPE=image/png:https://www.girodepot.com/wp-content/uploads/2026/02/Group-1-1-e1772070646688.png
END:VEVENT
BEGIN:VEVENT
DTSTART;TZID=America/Vancouver:20260701T130000
DTEND;TZID=America/Vancouver:20260701T153000
DTSTAMP:20260422T071501
CREATED:20260304T024336Z
LAST-MODIFIED:20260304T163732Z
UID:10000032-1782910800-1782919800@www.girodepot.com
SUMMARY:Fibre Café
DESCRIPTION:Informal drop-in session to work on your project\, make connections\, share ideas. Suggested donation: $5.  \n  \n 
URL:https://www.girodepot.com/workshop/fibre-cafe-4/2026-07-01/
CATEGORIES:Fibre Café
ATTACH;FMTTYPE=image/png:https://www.girodepot.com/wp-content/uploads/2026/02/Group-1-1-e1772070646688.png
END:VEVENT
BEGIN:VEVENT
DTSTART;TZID=America/Vancouver:20260704T130000
DTEND;TZID=America/Vancouver:20260704T153000
DTSTAMP:20260422T071501
CREATED:20260219T005449Z
LAST-MODIFIED:20260304T164558Z
UID:10000293-1783170000-1783179000@www.girodepot.com
SUMMARY:Fibre Café - mentor available
DESCRIPTION:Informal drop-in session to work on your project\, make connections\, share ideas. Suggested donation: $5.  \nKim Adam will be available for coaching and mentoring.
URL:https://www.girodepot.com/workshop/fibre-cafe-2/2026-07-04/
CATEGORIES:Fibre Café
ATTACH;FMTTYPE=image/png:https://www.girodepot.com/wp-content/uploads/2026/02/Group-1-1-e1772070646688.png
END:VEVENT
BEGIN:VEVENT
DTSTART;TZID=America/Vancouver:20260708T130000
DTEND;TZID=America/Vancouver:20260708T153000
DTSTAMP:20260422T071501
CREATED:20260304T024336Z
LAST-MODIFIED:20260304T163732Z
UID:10000033-1783515600-1783524600@www.girodepot.com
SUMMARY:Fibre Café
DESCRIPTION:Informal drop-in session to work on your project\, make connections\, share ideas. Suggested donation: $5.  \n  \n 
URL:https://www.girodepot.com/workshop/fibre-cafe-4/2026-07-08/
CATEGORIES:Fibre Café
ATTACH;FMTTYPE=image/png:https://www.girodepot.com/wp-content/uploads/2026/02/Group-1-1-e1772070646688.png
END:VEVENT
BEGIN:VEVENT
DTSTART;TZID=America/Vancouver:20260711T130000
DTEND;TZID=America/Vancouver:20260711T153000
DTSTAMP:20260422T071501
CREATED:20260219T005449Z
LAST-MODIFIED:20260304T164558Z
UID:10000294-1783774800-1783783800@www.girodepot.com
SUMMARY:Fibre Café - mentor available
DESCRIPTION:Informal drop-in session to work on your project\, make connections\, share ideas. Suggested donation: $5.  \nKim Adam will be available for coaching and mentoring.
URL:https://www.girodepot.com/workshop/fibre-cafe-2/2026-07-11/
CATEGORIES:Fibre Café
ATTACH;FMTTYPE=image/png:https://www.girodepot.com/wp-content/uploads/2026/02/Group-1-1-e1772070646688.png
END:VEVENT
BEGIN:VEVENT
DTSTART;TZID=America/Vancouver:20260715T130000
DTEND;TZID=America/Vancouver:20260715T153000
DTSTAMP:20260422T071501
CREATED:20260304T024336Z
LAST-MODIFIED:20260304T163732Z
UID:10000034-1784120400-1784129400@www.girodepot.com
SUMMARY:Fibre Café
DESCRIPTION:Informal drop-in session to work on your project\, make connections\, share ideas. Suggested donation: $5.  \n  \n 
URL:https://www.girodepot.com/workshop/fibre-cafe-4/2026-07-15/
CATEGORIES:Fibre Café
ATTACH;FMTTYPE=image/png:https://www.girodepot.com/wp-content/uploads/2026/02/Group-1-1-e1772070646688.png
END:VEVENT
BEGIN:VEVENT
DTSTART;TZID=America/Vancouver:20260718T130000
DTEND;TZID=America/Vancouver:20260718T153000
DTSTAMP:20260422T071501
CREATED:20260219T005449Z
LAST-MODIFIED:20260304T164558Z
UID:10000295-1784379600-1784388600@www.girodepot.com
SUMMARY:Fibre Café - mentor available
DESCRIPTION:Informal drop-in session to work on your project\, make connections\, share ideas. Suggested donation: $5.  \nKim Adam will be available for coaching and mentoring.
URL:https://www.girodepot.com/workshop/fibre-cafe-2/2026-07-18/
CATEGORIES:Fibre Café
ATTACH;FMTTYPE=image/png:https://www.girodepot.com/wp-content/uploads/2026/02/Group-1-1-e1772070646688.png
END:VEVENT
BEGIN:VEVENT
DTSTART;TZID=America/Vancouver:20260722T130000
DTEND;TZID=America/Vancouver:20260722T153000
DTSTAMP:20260422T071501
CREATED:20260304T024336Z
LAST-MODIFIED:20260304T163732Z
UID:10000035-1784725200-1784734200@www.girodepot.com
SUMMARY:Fibre Café
DESCRIPTION:Informal drop-in session to work on your project\, make connections\, share ideas. Suggested donation: $5.  \n  \n 
URL:https://www.girodepot.com/workshop/fibre-cafe-4/2026-07-22/
CATEGORIES:Fibre Café
ATTACH;FMTTYPE=image/png:https://www.girodepot.com/wp-content/uploads/2026/02/Group-1-1-e1772070646688.png
END:VEVENT
BEGIN:VEVENT
DTSTART;TZID=America/Vancouver:20260725T130000
DTEND;TZID=America/Vancouver:20260725T153000
DTSTAMP:20260422T071501
CREATED:20260219T005449Z
LAST-MODIFIED:20260304T164558Z
UID:10000296-1784984400-1784993400@www.girodepot.com
SUMMARY:Fibre Café - mentor available
DESCRIPTION:Informal drop-in session to work on your project\, make connections\, share ideas. Suggested donation: $5.  \nKim Adam will be available for coaching and mentoring.
URL:https://www.girodepot.com/workshop/fibre-cafe-2/2026-07-25/
CATEGORIES:Fibre Café
ATTACH;FMTTYPE=image/png:https://www.girodepot.com/wp-content/uploads/2026/02/Group-1-1-e1772070646688.png
END:VEVENT
BEGIN:VEVENT
DTSTART;TZID=America/Vancouver:20260729T130000
DTEND;TZID=America/Vancouver:20260729T153000
DTSTAMP:20260422T071501
CREATED:20260304T024336Z
LAST-MODIFIED:20260304T163732Z
UID:10000036-1785330000-1785339000@www.girodepot.com
SUMMARY:Fibre Café
DESCRIPTION:Informal drop-in session to work on your project\, make connections\, share ideas. Suggested donation: $5.  \n  \n 
URL:https://www.girodepot.com/workshop/fibre-cafe-4/2026-07-29/
CATEGORIES:Fibre Café
ATTACH;FMTTYPE=image/png:https://www.girodepot.com/wp-content/uploads/2026/02/Group-1-1-e1772070646688.png
END:VEVENT
BEGIN:VEVENT
DTSTART;TZID=America/Vancouver:20260801T130000
DTEND;TZID=America/Vancouver:20260801T153000
DTSTAMP:20260422T071501
CREATED:20260219T005449Z
LAST-MODIFIED:20260304T164558Z
UID:10000297-1785589200-1785598200@www.girodepot.com
SUMMARY:Fibre Café - mentor available
DESCRIPTION:Informal drop-in session to work on your project\, make connections\, share ideas. Suggested donation: $5.  \nKim Adam will be available for coaching and mentoring.
URL:https://www.girodepot.com/workshop/fibre-cafe-2/2026-08-01/
CATEGORIES:Fibre Café
ATTACH;FMTTYPE=image/png:https://www.girodepot.com/wp-content/uploads/2026/02/Group-1-1-e1772070646688.png
END:VEVENT
BEGIN:VEVENT
DTSTART;TZID=America/Vancouver:20260805T130000
DTEND;TZID=America/Vancouver:20260805T153000
DTSTAMP:20260422T071501
CREATED:20260304T024336Z
LAST-MODIFIED:20260304T163732Z
UID:10000037-1785934800-1785943800@www.girodepot.com
SUMMARY:Fibre Café
DESCRIPTION:Informal drop-in session to work on your project\, make connections\, share ideas. Suggested donation: $5.  \n  \n 
URL:https://www.girodepot.com/workshop/fibre-cafe-4/2026-08-05/
CATEGORIES:Fibre Café
ATTACH;FMTTYPE=image/png:https://www.girodepot.com/wp-content/uploads/2026/02/Group-1-1-e1772070646688.png
END:VEVENT
BEGIN:VEVENT
DTSTART;TZID=America/Vancouver:20260808T130000
DTEND;TZID=America/Vancouver:20260808T153000
DTSTAMP:20260422T071501
CREATED:20260219T005449Z
LAST-MODIFIED:20260304T164558Z
UID:10000298-1786194000-1786203000@www.girodepot.com
SUMMARY:Fibre Café - mentor available
DESCRIPTION:Informal drop-in session to work on your project\, make connections\, share ideas. Suggested donation: $5.  \nKim Adam will be available for coaching and mentoring.
URL:https://www.girodepot.com/workshop/fibre-cafe-2/2026-08-08/
CATEGORIES:Fibre Café
ATTACH;FMTTYPE=image/png:https://www.girodepot.com/wp-content/uploads/2026/02/Group-1-1-e1772070646688.png
END:VEVENT
BEGIN:VEVENT
DTSTART;TZID=America/Vancouver:20260812T130000
DTEND;TZID=America/Vancouver:20260812T153000
DTSTAMP:20260422T071501
CREATED:20260304T024336Z
LAST-MODIFIED:20260304T163732Z
UID:10000038-1786539600-1786548600@www.girodepot.com
SUMMARY:Fibre Café
DESCRIPTION:Informal drop-in session to work on your project\, make connections\, share ideas. Suggested donation: $5.  \n  \n 
URL:https://www.girodepot.com/workshop/fibre-cafe-4/2026-08-12/
CATEGORIES:Fibre Café
ATTACH;FMTTYPE=image/png:https://www.girodepot.com/wp-content/uploads/2026/02/Group-1-1-e1772070646688.png
END:VEVENT
BEGIN:VEVENT
DTSTART;TZID=America/Vancouver:20260815T130000
DTEND;TZID=America/Vancouver:20260815T153000
DTSTAMP:20260422T071501
CREATED:20260219T005449Z
LAST-MODIFIED:20260304T164558Z
UID:10000299-1786798800-1786807800@www.girodepot.com
SUMMARY:Fibre Café - mentor available
DESCRIPTION:Informal drop-in session to work on your project\, make connections\, share ideas. Suggested donation: $5.  \nKim Adam will be available for coaching and mentoring.
URL:https://www.girodepot.com/workshop/fibre-cafe-2/2026-08-15/
CATEGORIES:Fibre Café
ATTACH;FMTTYPE=image/png:https://www.girodepot.com/wp-content/uploads/2026/02/Group-1-1-e1772070646688.png
END:VEVENT
BEGIN:VEVENT
DTSTART;TZID=America/Vancouver:20260819T130000
DTEND;TZID=America/Vancouver:20260819T153000
DTSTAMP:20260422T071501
CREATED:20260304T024336Z
LAST-MODIFIED:20260304T163732Z
UID:10000039-1787144400-1787153400@www.girodepot.com
SUMMARY:Fibre Café
DESCRIPTION:Informal drop-in session to work on your project\, make connections\, share ideas. Suggested donation: $5.  \n  \n 
URL:https://www.girodepot.com/workshop/fibre-cafe-4/2026-08-19/
CATEGORIES:Fibre Café
ATTACH;FMTTYPE=image/png:https://www.girodepot.com/wp-content/uploads/2026/02/Group-1-1-e1772070646688.png
END:VEVENT
BEGIN:VEVENT
DTSTART;TZID=America/Vancouver:20260822T130000
DTEND;TZID=America/Vancouver:20260822T153000
DTSTAMP:20260422T071501
CREATED:20260219T005449Z
LAST-MODIFIED:20260304T164558Z
UID:10000300-1787403600-1787412600@www.girodepot.com
SUMMARY:Fibre Café - mentor available
DESCRIPTION:Informal drop-in session to work on your project\, make connections\, share ideas. Suggested donation: $5.  \nKim Adam will be available for coaching and mentoring.
URL:https://www.girodepot.com/workshop/fibre-cafe-2/2026-08-22/
CATEGORIES:Fibre Café
ATTACH;FMTTYPE=image/png:https://www.girodepot.com/wp-content/uploads/2026/02/Group-1-1-e1772070646688.png
END:VEVENT
BEGIN:VEVENT
DTSTART;TZID=America/Vancouver:20260826T130000
DTEND;TZID=America/Vancouver:20260826T153000
DTSTAMP:20260422T071501
CREATED:20260304T024336Z
LAST-MODIFIED:20260304T163732Z
UID:10000040-1787749200-1787758200@www.girodepot.com
SUMMARY:Fibre Café
DESCRIPTION:Informal drop-in session to work on your project\, make connections\, share ideas. Suggested donation: $5.  \n  \n 
URL:https://www.girodepot.com/workshop/fibre-cafe-4/2026-08-26/
CATEGORIES:Fibre Café
ATTACH;FMTTYPE=image/png:https://www.girodepot.com/wp-content/uploads/2026/02/Group-1-1-e1772070646688.png
END:VEVENT
BEGIN:VEVENT
DTSTART;TZID=America/Vancouver:20260829T130000
DTEND;TZID=America/Vancouver:20260829T153000
DTSTAMP:20260422T071501
CREATED:20260219T005449Z
LAST-MODIFIED:20260304T164558Z
UID:10000301-1788008400-1788017400@www.girodepot.com
SUMMARY:Fibre Café - mentor available
DESCRIPTION:Informal drop-in session to work on your project\, make connections\, share ideas. Suggested donation: $5.  \nKim Adam will be available for coaching and mentoring.
URL:https://www.girodepot.com/workshop/fibre-cafe-2/2026-08-29/
CATEGORIES:Fibre Café
ATTACH;FMTTYPE=image/png:https://www.girodepot.com/wp-content/uploads/2026/02/Group-1-1-e1772070646688.png
END:VEVENT
BEGIN:VEVENT
DTSTART;TZID=America/Vancouver:20260902T130000
DTEND;TZID=America/Vancouver:20260902T153000
DTSTAMP:20260422T071501
CREATED:20260304T024336Z
LAST-MODIFIED:20260304T163732Z
UID:10000041-1788354000-1788363000@www.girodepot.com
SUMMARY:Fibre Café
DESCRIPTION:Informal drop-in session to work on your project\, make connections\, share ideas. Suggested donation: $5.  \n  \n 
URL:https://www.girodepot.com/workshop/fibre-cafe-4/2026-09-02/
CATEGORIES:Fibre Café
ATTACH;FMTTYPE=image/png:https://www.girodepot.com/wp-content/uploads/2026/02/Group-1-1-e1772070646688.png
END:VEVENT
BEGIN:VEVENT
DTSTART;TZID=America/Vancouver:20260905T130000
DTEND;TZID=America/Vancouver:20260905T153000
DTSTAMP:20260422T071501
CREATED:20260219T005449Z
LAST-MODIFIED:20260304T164558Z
UID:10000302-1788613200-1788622200@www.girodepot.com
SUMMARY:Fibre Café - mentor available
DESCRIPTION:Informal drop-in session to work on your project\, make connections\, share ideas. Suggested donation: $5.  \nKim Adam will be available for coaching and mentoring.
URL:https://www.girodepot.com/workshop/fibre-cafe-2/2026-09-05/
CATEGORIES:Fibre Café
ATTACH;FMTTYPE=image/png:https://www.girodepot.com/wp-content/uploads/2026/02/Group-1-1-e1772070646688.png
END:VEVENT
END:VCALENDAR